BEGIN:VCALENDAR
VERSION:2.0
PRODID:-//AusschreibungsRadar//Timeline//DE
CALSCALE:GREGORIAN
METHOD:PUBLISH
X-WR-CALNAME:Projekt Neubau Kita in Bous, hier: Malerarbeiten
X-WR-TIMEZONE:Europe/Berlin
BEGIN:VEVENT
UID:8e016f2bca9e2dfa@ausschreibungsradar.com
DTSTAMP:20260424T000830Z
DTSTART;VALUE=DATE:20240205
DTEND;VALUE=DATE:20240205
SUMMARY:Ausschreibung — Neubau Kita in Bous\, hier: Malerarbeiten
DESCRIPTION:Phase: Ausschreibung | Beschreibung: Offizielle Ausschreibung mit Bieterfrist. | Link: https://ausschreibungsradar.com/ausschreibung/21536342/
URL:https://ausschreibungsradar.com/ausschreibung/21536342/
END:VEVENT
BEGIN:VEVENT
UID:d95c64ef9713760f@ausschreibungsradar.com
DTSTAMP:20260424T000830Z
DTSTART;VALUE=DATE:20240226
DTEND;VALUE=DATE:20240226
SUMMARY:Ausschreibung — Neubau Kita in Bous\, hier: Malerarbeiten
DESCRIPTION:Phase: Ausschreibung | Beschreibung: Offizielle Ausschreibung mit Bieterfrist. | Link: https://ausschreibungsradar.com/ausschreibung/21645394/
URL:https://ausschreibungsradar.com/ausschreibung/21645394/
END:VEVENT
END:VCALENDAR
