BEGIN:VCALENDAR
VERSION:2.0
PRODID:-//AusschreibungsRadar//Timeline//DE
CALSCALE:GREGORIAN
METHOD:PUBLISH
X-WR-CALNAME:Projekt Neubau zweier Wohnheime zur Anschlussunterbringung - Sanitär
X-WR-TIMEZONE:Europe/Berlin
BEGIN:VEVENT
UID:ee85774a73d786d2@ausschreibungsradar.com
DTSTAMP:20260425T191607Z
DTSTART;VALUE=DATE:20240301
DTEND;VALUE=DATE:20240301
SUMMARY:Ausschreibung — Neubau zweier Wohnheime zur Anschlussunterbringung - Sanitär
DESCRIPTION:Phase: Ausschreibung | Beschreibung: Offizielle Ausschreibung mit Bieterfrist. | Link: https://ausschreibungsradar.com/ausschreibung/21679476/
URL:https://ausschreibungsradar.com/ausschreibung/21679476/
END:VEVENT
BEGIN:VEVENT
UID:6028c2ba5a4d683c@ausschreibungsradar.com
DTSTAMP:20260425T191607Z
DTSTART;VALUE=DATE:20240301
DTEND;VALUE=DATE:20240301
SUMMARY:Ausschreibung — Neubau zweier Wohnheime zur Anschlussunterbringung - Sanitär
DESCRIPTION:Phase: Ausschreibung | Beschreibung: Offizielle Ausschreibung mit Bieterfrist. | Link: https://ausschreibungsradar.com/ausschreibung/21679480/
URL:https://ausschreibungsradar.com/ausschreibung/21679480/
END:VEVENT
END:VCALENDAR
