BEGIN:VCALENDAR
VERSION:2.0
PRODID:-//AusschreibungsRadar//Timeline//DE
CALSCALE:GREGORIAN
METHOD:PUBLISH
X-WR-CALNAME:Projekt Weiterführung des Projekts und weiterer Ausbau Touristisches
X-WR-TIMEZONE:Europe/Berlin
BEGIN:VEVENT
UID:70fbc3681fc20720@ausschreibungsradar.com
DTSTAMP:20260424T180914Z
DTSTART;VALUE=DATE:20240327
DTEND;VALUE=DATE:20240327
SUMMARY:Ausschreibung — Weiterführung des Projekts und weiterer Ausbau Touristisches
DESCRIPTION:Phase: Ausschreibung | Beschreibung: Offizielle Ausschreibung mit Bieterfrist. | Link: https://ausschreibungsradar.com/ausschreibung/21817026/
URL:https://ausschreibungsradar.com/ausschreibung/21817026/
END:VEVENT
BEGIN:VEVENT
UID:ee9c9605e3abc3c9@ausschreibungsradar.com
DTSTAMP:20260424T180914Z
DTSTART;VALUE=DATE:20240327
DTEND;VALUE=DATE:20240327
SUMMARY:Ausschreibung — Weiterführung des Projekts und weiterer Ausbau Touristisches
DESCRIPTION:Phase: Ausschreibung | Beschreibung: Offizielle Ausschreibung mit Bieterfrist. | Link: https://ausschreibungsradar.com/ausschreibung/21817022/
URL:https://ausschreibungsradar.com/ausschreibung/21817022/
END:VEVENT
END:VCALENDAR
