BEGIN:VCALENDAR
VERSION:2.0
PRODID:-//AusschreibungsRadar//Timeline//DE
CALSCALE:GREGORIAN
METHOD:PUBLISH
X-WR-CALNAME:Projekt Microsoft Enterprise Agreement/ Anschlussvertrag und weitere
X-WR-TIMEZONE:Europe/Berlin
BEGIN:VEVENT
UID:a32bce16c0311592@ausschreibungsradar.com
DTSTAMP:20260425T102401Z
DTSTART;VALUE=DATE:20240327
DTEND;VALUE=DATE:20240327
SUMMARY:Ausschreibung — Microsoft Enterprise Agreement/ Anschlussvertrag und weitere
DESCRIPTION:Phase: Ausschreibung | Beschreibung: Offizielle Ausschreibung mit Bieterfrist. | Link: https://ausschreibungsradar.com/ausschreibung/21821490/
URL:https://ausschreibungsradar.com/ausschreibung/21821490/
END:VEVENT
BEGIN:VEVENT
UID:25203df1509cf072@ausschreibungsradar.com
DTSTAMP:20260425T102401Z
DTSTART;VALUE=DATE:20240404
DTEND;VALUE=DATE:20240404
SUMMARY:Ausschreibung — Microsoft Enterprise Agreement/ Anschlussvertrag und weitere
DESCRIPTION:Phase: Ausschreibung | Beschreibung: Offizielle Ausschreibung mit Bieterfrist. | Link: https://ausschreibungsradar.com/ausschreibung/21857082/
URL:https://ausschreibungsradar.com/ausschreibung/21857082/
END:VEVENT
END:VCALENDAR
