BEGIN:VCALENDAR
VERSION:2.0
PRODID:-//AusschreibungsRadar//Timeline//DE
CALSCALE:GREGORIAN
METHOD:PUBLISH
X-WR-CALNAME:Projekt Energetische Fassadensanierung GS Papstdorf Los002 - Dacharb
X-WR-TIMEZONE:Europe/Berlin
BEGIN:VEVENT
UID:c611471173bb55f7@ausschreibungsradar.com
DTSTAMP:20260425T191627Z
DTSTART;VALUE=DATE:20240403
DTEND;VALUE=DATE:20240403
SUMMARY:Ausschreibung — Energetische Fassadensanierung GS Papstdorf Los002 - Dacharb
DESCRIPTION:Phase: Ausschreibung | Beschreibung: Offizielle Ausschreibung mit Bieterfrist. | Link: https://ausschreibungsradar.com/ausschreibung/21842696/
URL:https://ausschreibungsradar.com/ausschreibung/21842696/
END:VEVENT
BEGIN:VEVENT
UID:a5bae150234a6a7a@ausschreibungsradar.com
DTSTAMP:20260425T191627Z
DTSTART;VALUE=DATE:20240403
DTEND;VALUE=DATE:20240403
SUMMARY:Ausschreibung — Energetische Fassadensanierung GS Papstdorf Los002 - Dacharb
DESCRIPTION:Phase: Ausschreibung | Beschreibung: Offizielle Ausschreibung mit Bieterfrist. | Link: https://ausschreibungsradar.com/ausschreibung/21842712/
URL:https://ausschreibungsradar.com/ausschreibung/21842712/
END:VEVENT
END:VCALENDAR
