BEGIN:VCALENDAR
VERSION:2.0
PRODID:-//AusschreibungsRadar//Timeline//DE
CALSCALE:GREGORIAN
METHOD:PUBLISH
X-WR-CALNAME:Projekt Rückbau von einem Garagenkomplex
X-WR-TIMEZONE:Europe/Berlin
BEGIN:VEVENT
UID:9479bc42084e94f3@ausschreibungsradar.com
DTSTAMP:20260426T005556Z
DTSTART;VALUE=DATE:20240419
DTEND;VALUE=DATE:20240419
SUMMARY:Ausschreibung — Rückbau von einem Garagenkomplex
DESCRIPTION:Phase: Ausschreibung | Beschreibung: Offizielle Ausschreibung mit Bieterfrist. | Link: https://ausschreibungsradar.com/ausschreibung/21938056/
URL:https://ausschreibungsradar.com/ausschreibung/21938056/
END:VEVENT
BEGIN:VEVENT
UID:8813e1d1590e26be@ausschreibungsradar.com
DTSTAMP:20260426T005556Z
DTSTART;VALUE=DATE:20240424
DTEND;VALUE=DATE:20240424
SUMMARY:Ausschreibung — Rückbau von einem Garagenkomplex
DESCRIPTION:Phase: Ausschreibung | Beschreibung: Offizielle Ausschreibung mit Bieterfrist. | Link: https://ausschreibungsradar.com/ausschreibung/21960470/
URL:https://ausschreibungsradar.com/ausschreibung/21960470/
END:VEVENT
END:VCALENDAR
