BEGIN:VCALENDAR
VERSION:2.0
PRODID:-//AusschreibungsRadar//Timeline//DE
CALSCALE:GREGORIAN
METHOD:PUBLISH
X-WR-CALNAME:Projekt Revitalisierung einer Lagerhalle, Los 01 BHL, Putz, Estrich,
X-WR-TIMEZONE:Europe/Berlin
BEGIN:VEVENT
UID:3709a6074c223238@ausschreibungsradar.com
DTSTAMP:20260425T022720Z
DTSTART;VALUE=DATE:20240430
DTEND;VALUE=DATE:20240430
SUMMARY:Ausschreibung — Revitalisierung einer Lagerhalle\, Los 01 BHL\, Putz\, Estrich\,
DESCRIPTION:Phase: Ausschreibung | Beschreibung: Offizielle Ausschreibung mit Bieterfrist. | Link: https://ausschreibungsradar.com/ausschreibung/21995476/
URL:https://ausschreibungsradar.com/ausschreibung/21995476/
END:VEVENT
BEGIN:VEVENT
UID:e7344b7869a68170@ausschreibungsradar.com
DTSTAMP:20260425T022720Z
DTSTART;VALUE=DATE:20240430
DTEND;VALUE=DATE:20240430
SUMMARY:Ausschreibung — Revitalisierung einer Lagerhalle\, Los 01 BHL\, Putz\, Estrich\,
DESCRIPTION:Phase: Ausschreibung | Beschreibung: Offizielle Ausschreibung mit Bieterfrist. | Link: https://ausschreibungsradar.com/ausschreibung/21995508/
URL:https://ausschreibungsradar.com/ausschreibung/21995508/
END:VEVENT
END:VCALENDAR
