BEGIN:VCALENDAR
VERSION:2.0
PRODID:-//AusschreibungsRadar//Timeline//DE
CALSCALE:GREGORIAN
METHOD:PUBLISH
X-WR-CALNAME:Projekt Neubau einer Studierendenwohnanlage, Blitzschutz- und Erdung
X-WR-TIMEZONE:Europe/Berlin
BEGIN:VEVENT
UID:afbac5ec5d1ea4ab@ausschreibungsradar.com
DTSTAMP:20260424T181134Z
DTSTART;VALUE=DATE:20250923
DTEND;VALUE=DATE:20250923
SUMMARY:Angebotsfrist — Neubau einer Studierendenwohnanlage\, Blitzschutz- und Erdung
DESCRIPTION:Phase: Ausschreibung | Beschreibung: Angebote werden eingeholt | Link: https://ausschreibungsradar.com/ausschreibung/779875d0-80eb-4389-b2c7-7a3eaf912b5b/
URL:https://ausschreibungsradar.com/ausschreibung/779875d0-80eb-4389-b2c7-7a3eaf912b5b/
END:VEVENT
BEGIN:VEVENT
UID:ab1d683a0f640e9c@ausschreibungsradar.com
DTSTAMP:20260424T181134Z
DTSTART;VALUE=DATE:20251104
DTEND;VALUE=DATE:20251104
SUMMARY:Vergabeergebnis — Neubau einer Studierendenwohnanlage\, Blitzschutz- und Erdung
DESCRIPTION:Phase: Vergabeergebnis | Beschreibung: Auftrag wurde zugeschlagen | Link: https://ausschreibungsradar.com/ausschreibung/21efb497-47da-46fc-b421-87edeb84fddb/
URL:https://ausschreibungsradar.com/ausschreibung/21efb497-47da-46fc-b421-87edeb84fddb/
END:VEVENT
BEGIN:VEVENT
UID:1c4da3339ed229d5@ausschreibungsradar.com
DTSTAMP:20260424T181134Z
DTSTART;VALUE=DATE:20251105
DTEND;VALUE=DATE:20251105
SUMMARY:Zuschlag — Neubau einer Studierendenwohnanlage\, Blitzschutz- und Erdung
DESCRIPTION:Phase: Zuschlag | Beschreibung: Vergabeergebnis — Auftrag wurde erteilt oder Verfahren beendet. | Link: https://ausschreibungsradar.com/ausschreibung/0df9010a-aee4-40a2-b8ab-93b4f9969cdf/
URL:https://ausschreibungsradar.com/ausschreibung/0df9010a-aee4-40a2-b8ab-93b4f9969cdf/
END:VEVENT
BEGIN:VEVENT
UID:f5ae6206a6759102@ausschreibungsradar.com
DTSTAMP:20260424T181134Z
DTSTART;VALUE=DATE:20251128
DTEND;VALUE=DATE:20251128
SUMMARY:Ausschreibung — Neubau einer Studierendenwohnanlage\, Blitzschutz- und Erdung
DESCRIPTION:Phase: Ausschreibung | Beschreibung: Offizielle Ausschreibung mit Bieterfrist. | Link: https://ausschreibungsradar.com/ausschreibung/0c44af67-86b0-4a63-ae75-7de324c43691/
URL:https://ausschreibungsradar.com/ausschreibung/0c44af67-86b0-4a63-ae75-7de324c43691/
END:VEVENT
END:VCALENDAR
