BEGIN:VCALENDAR
VERSION:2.0
PRODID:-//AusschreibungsRadar//Timeline//DE
CALSCALE:GREGORIAN
METHOD:PUBLISH
X-WR-CALNAME:Projekt Neubau Feuerwehrhaus Thalmassing mit 3 Stellplätzen / Trocke
X-WR-TIMEZONE:Europe/Berlin
BEGIN:VEVENT
UID:365109a4b456cd9b@ausschreibungsradar.com
DTSTAMP:20260425T225032Z
DTSTART;VALUE=DATE:20240516
DTEND;VALUE=DATE:20240516
SUMMARY:Ausschreibung — Neubau Feuerwehrhaus Thalmassing mit 3 Stellplätzen / Trocke
DESCRIPTION:Phase: Ausschreibung | Beschreibung: Offizielle Ausschreibung mit Bieterfrist. | Link: https://ausschreibungsradar.com/ausschreibung/22078786/
URL:https://ausschreibungsradar.com/ausschreibung/22078786/
END:VEVENT
BEGIN:VEVENT
UID:61a765aeb53c6c1a@ausschreibungsradar.com
DTSTAMP:20260425T225032Z
DTSTART;VALUE=DATE:20240516
DTEND;VALUE=DATE:20240516
SUMMARY:Ausschreibung — Neubau Feuerwehrhaus Thalmassing mit 3 Stellplätzen / Trocke
DESCRIPTION:Phase: Ausschreibung | Beschreibung: Offizielle Ausschreibung mit Bieterfrist. | Link: https://ausschreibungsradar.com/ausschreibung/22078770/
URL:https://ausschreibungsradar.com/ausschreibung/22078770/
END:VEVENT
END:VCALENDAR
