BEGIN:VCALENDAR
VERSION:2.0
PRODID:-//AusschreibungsRadar//Timeline//DE
CALSCALE:GREGORIAN
METHOD:PUBLISH
X-WR-CALNAME:Projekt Sicherheitsdienstleistungen für das Jobcenter Dithmarschen
X-WR-TIMEZONE:Europe/Berlin
BEGIN:VEVENT
UID:6bcbbb8ccacbb757@ausschreibungsradar.com
DTSTAMP:20260424T174223Z
DTSTART;VALUE=DATE:20251020
DTEND;VALUE=DATE:20251020
SUMMARY:Angebotsfrist — Sicherheitsdienstleistungen für das Jobcenter Dithmarschen
DESCRIPTION:Phase: Ausschreibung | Beschreibung: Angebote werden eingeholt | Link: https://ausschreibungsradar.com/ausschreibung/22107dc4-9563-4b0d-84a7-81d1e9d0eb40/
URL:https://ausschreibungsradar.com/ausschreibung/22107dc4-9563-4b0d-84a7-81d1e9d0eb40/
END:VEVENT
BEGIN:VEVENT
UID:924b906f795d6a04@ausschreibungsradar.com
DTSTAMP:20260424T174223Z
DTSTART;VALUE=DATE:20250912
DTEND;VALUE=DATE:20250912
SUMMARY:Ausschreibung — Sicherheitsdienstleistungen für das Jobcenter Dithmarschen
DESCRIPTION:Phase: Ausschreibung | Beschreibung: Offizielle Ausschreibung mit Bieterfrist. | Link: https://ausschreibungsradar.com/ausschreibung/b6a19bf4-a769-4465-bb43-368864cf744c/
URL:https://ausschreibungsradar.com/ausschreibung/b6a19bf4-a769-4465-bb43-368864cf744c/
END:VEVENT
BEGIN:VEVENT
UID:e770165a38f288bd@ausschreibungsradar.com
DTSTAMP:20260424T174223Z
DTSTART;VALUE=DATE:20250912
DTEND;VALUE=DATE:20250912
SUMMARY:Ausschreibung — Sicherheitsdienstleistungen für das Jobcenter Dithmarschen
DESCRIPTION:Phase: Ausschreibung | Beschreibung: Offizielle Ausschreibung mit Bieterfrist. | Link: https://ausschreibungsradar.com/ausschreibung/82378bfb-8218-488e-a3d7-e452de7b7d7a/
URL:https://ausschreibungsradar.com/ausschreibung/82378bfb-8218-488e-a3d7-e452de7b7d7a/
END:VEVENT
BEGIN:VEVENT
UID:4c02487adb754fd0@ausschreibungsradar.com
DTSTAMP:20260424T174223Z
DTSTART;VALUE=DATE:20250912
DTEND;VALUE=DATE:20250912
SUMMARY:Ausschreibung — Sicherheitsdienstleistungen für das Jobcenter Dithmarschen
DESCRIPTION:Phase: Ausschreibung | Beschreibung: Offizielle Ausschreibung mit Bieterfrist. | Link: https://ausschreibungsradar.com/ausschreibung/ff32fb95-0a9f-44b7-aeec-47db65b4c1ba/
URL:https://ausschreibungsradar.com/ausschreibung/ff32fb95-0a9f-44b7-aeec-47db65b4c1ba/
END:VEVENT
BEGIN:VEVENT
UID:6058a73c2dcaff4f@ausschreibungsradar.com
DTSTAMP:20260424T174223Z
DTSTART;VALUE=DATE:20251201
DTEND;VALUE=DATE:20251201
SUMMARY:Vergabeergebnis — Sicherheitsdienstleistungen für das Jobcenter Dithmarschen
DESCRIPTION:Phase: Vergabeergebnis | Beschreibung: Auftrag wurde zugeschlagen | Link: https://ausschreibungsradar.com/ausschreibung/0caa6390-289b-4383-b1b5-98993be9318c/ | Auftragnehmer: Sicherheit Nord GmbH & Co
URL:https://ausschreibungsradar.com/ausschreibung/0caa6390-289b-4383-b1b5-98993be9318c/
END:VEVENT
END:VCALENDAR
