BEGIN:VCALENDAR
VERSION:2.0
PRODID:-//AusschreibungsRadar//Timeline//DE
CALSCALE:GREGORIAN
METHOD:PUBLISH
X-WR-CALNAME:Projekt Ertüchtigung Kläranlage Siebenlehn - Los 08.02- Beschichtung
X-WR-TIMEZONE:Europe/Berlin
BEGIN:VEVENT
UID:4f93b7e2685cb4a2@ausschreibungsradar.com
DTSTAMP:20260424T053815Z
DTSTART;VALUE=DATE:20240523
DTEND;VALUE=DATE:20240523
SUMMARY:Ausschreibung — Ertüchtigung Kläranlage Siebenlehn - Los 08.02- Beschichtung
DESCRIPTION:Phase: Ausschreibung | Beschreibung: Offizielle Ausschreibung mit Bieterfrist. | Link: https://ausschreibungsradar.com/ausschreibung/22108452/
URL:https://ausschreibungsradar.com/ausschreibung/22108452/
END:VEVENT
BEGIN:VEVENT
UID:2dcab2d9342b0151@ausschreibungsradar.com
DTSTAMP:20260424T053815Z
DTSTART;VALUE=DATE:20240523
DTEND;VALUE=DATE:20240523
SUMMARY:Ausschreibung — Ertüchtigung Kläranlage Siebenlehn - Los 08.02- Beschichtung
DESCRIPTION:Phase: Ausschreibung | Beschreibung: Offizielle Ausschreibung mit Bieterfrist. | Link: https://ausschreibungsradar.com/ausschreibung/22108444/
URL:https://ausschreibungsradar.com/ausschreibung/22108444/
END:VEVENT
BEGIN:VEVENT
UID:aed9a427c90b0e18@ausschreibungsradar.com
DTSTAMP:20260424T053815Z
DTSTART;VALUE=DATE:20240523
DTEND;VALUE=DATE:20240523
SUMMARY:Ausschreibung — Ertüchtigung Kläranlage Siebenlehn - Los 08.02- Beschichtung
DESCRIPTION:Phase: Ausschreibung | Beschreibung: Offizielle Ausschreibung mit Bieterfrist. | Link: https://ausschreibungsradar.com/ausschreibung/22108436/
URL:https://ausschreibungsradar.com/ausschreibung/22108436/
END:VEVENT
BEGIN:VEVENT
UID:4f20009a5154fab7@ausschreibungsradar.com
DTSTAMP:20260424T053815Z
DTSTART;VALUE=DATE:20240621
DTEND;VALUE=DATE:20240621
SUMMARY:Ausschreibung — Ertüchtigung Kläranlage Siebenlehn - Los 08.02- Beschichtung
DESCRIPTION:Phase: Ausschreibung | Beschreibung: Offizielle Ausschreibung mit Bieterfrist. | Link: https://ausschreibungsradar.com/ausschreibung/22261680/
URL:https://ausschreibungsradar.com/ausschreibung/22261680/
END:VEVENT
END:VCALENDAR
