BEGIN:VCALENDAR
VERSION:2.0
PRODID:-//AusschreibungsRadar//Timeline//DE
CALSCALE:GREGORIAN
METHOD:PUBLISH
X-WR-CALNAME:Projekt studierendenWERK BERLIN WH Siegmunds Hof 17, Haus 1, Schadst
X-WR-TIMEZONE:Europe/Berlin
BEGIN:VEVENT
UID:4df019b8de1a8485@ausschreibungsradar.com
DTSTAMP:20260424T082951Z
DTSTART;VALUE=DATE:20240613
DTEND;VALUE=DATE:20240613
SUMMARY:Ausschreibung — studierendenWERK BERLIN WH Siegmunds Hof 17\, Haus 1\, Schadst
DESCRIPTION:Phase: Ausschreibung | Beschreibung: Offizielle Ausschreibung mit Bieterfrist. | Link: https://ausschreibungsradar.com/ausschreibung/eac86895-5230-48e3-8a1a-c179d334cefd/
URL:https://ausschreibungsradar.com/ausschreibung/eac86895-5230-48e3-8a1a-c179d334cefd/
END:VEVENT
BEGIN:VEVENT
UID:e8a937d8905b801e@ausschreibungsradar.com
DTSTAMP:20260424T082951Z
DTSTART;VALUE=DATE:20240617
DTEND;VALUE=DATE:20240617
SUMMARY:Ausschreibung — studierendenWERK BERLIN WH Siegmunds Hof 17\, Haus 1\, Schadst
DESCRIPTION:Phase: Ausschreibung | Beschreibung: Offizielle Ausschreibung mit Bieterfrist. | Link: https://ausschreibungsradar.com/ausschreibung/22233476/
URL:https://ausschreibungsradar.com/ausschreibung/22233476/
END:VEVENT
BEGIN:VEVENT
UID:8b1d98ee6d88a35b@ausschreibungsradar.com
DTSTAMP:20260424T082951Z
DTSTART;VALUE=DATE:20240617
DTEND;VALUE=DATE:20240617
SUMMARY:Ausschreibung — studierendenWERK BERLIN WH Siegmunds Hof 17\, Haus 1\, Schadst
DESCRIPTION:Phase: Ausschreibung | Beschreibung: Offizielle Ausschreibung mit Bieterfrist. | Link: https://ausschreibungsradar.com/ausschreibung/07a225f3-4c75-4c75-b0ef-2f0bf62f3617/
URL:https://ausschreibungsradar.com/ausschreibung/07a225f3-4c75-4c75-b0ef-2f0bf62f3617/
END:VEVENT
BEGIN:VEVENT
UID:dced087fe9141bd4@ausschreibungsradar.com
DTSTAMP:20260424T082951Z
DTSTART;VALUE=DATE:20240618
DTEND;VALUE=DATE:20240618
SUMMARY:Ausschreibung — studierendenWERK BERLIN WH Siegmunds Hof 17\, Haus 1\, Schadst
DESCRIPTION:Phase: Ausschreibung | Beschreibung: Offizielle Ausschreibung mit Bieterfrist. | Link: https://ausschreibungsradar.com/ausschreibung/22242120/
URL:https://ausschreibungsradar.com/ausschreibung/22242120/
END:VEVENT
BEGIN:VEVENT
UID:7acd9d77fc709986@ausschreibungsradar.com
DTSTAMP:20260424T082951Z
DTSTART;VALUE=DATE:20240628
DTEND;VALUE=DATE:20240628
SUMMARY:Ausschreibung — studierendenWERK BERLIN WH Siegmunds Hof 17\, Haus 1\, Schadst
DESCRIPTION:Phase: Ausschreibung | Beschreibung: Offizielle Ausschreibung mit Bieterfrist. | Link: https://ausschreibungsradar.com/ausschreibung/3320718d-5443-4106-ad96-5ad3473e1087/
URL:https://ausschreibungsradar.com/ausschreibung/3320718d-5443-4106-ad96-5ad3473e1087/
END:VEVENT
END:VCALENDAR
