BEGIN:VCALENDAR
VERSION:2.0
PRODID:-//AusschreibungsRadar//Timeline//DE
CALSCALE:GREGORIAN
METHOD:PUBLISH
X-WR-CALNAME:Projekt Sanierung Regionale Schule Los 5 - Metallbau
X-WR-TIMEZONE:Europe/Berlin
BEGIN:VEVENT
UID:4ed1449aec7fb249@ausschreibungsradar.com
DTSTAMP:20260425T220527Z
DTSTART;VALUE=DATE:20240626
DTEND;VALUE=DATE:20240626
SUMMARY:Ausschreibung — Sanierung Regionale Schule Los 5 - Metallbau
DESCRIPTION:Phase: Ausschreibung | Beschreibung: Offizielle Ausschreibung mit Bieterfrist. | Link: https://ausschreibungsradar.com/ausschreibung/22271586/
URL:https://ausschreibungsradar.com/ausschreibung/22271586/
END:VEVENT
BEGIN:VEVENT
UID:4220e7ecd86f841d@ausschreibungsradar.com
DTSTAMP:20260425T220527Z
DTSTART;VALUE=DATE:20240703
DTEND;VALUE=DATE:20240703
SUMMARY:Ausschreibung — Sanierung Regionale Schule Los 5 - Metallbau
DESCRIPTION:Phase: Ausschreibung | Beschreibung: Offizielle Ausschreibung mit Bieterfrist. | Link: https://ausschreibungsradar.com/ausschreibung/22321956/
URL:https://ausschreibungsradar.com/ausschreibung/22321956/
END:VEVENT
END:VCALENDAR
