BEGIN:VCALENDAR
VERSION:2.0
PRODID:-//AusschreibungsRadar//Timeline//DE
CALSCALE:GREGORIAN
METHOD:PUBLISH
X-WR-CALNAME:Projekt Tiefbauarbeiten
X-WR-TIMEZONE:Europe/Berlin
BEGIN:VEVENT
UID:28b9cc2a8a886429@ausschreibungsradar.com
DTSTAMP:20260424T102435Z
DTSTART;VALUE=DATE:20240624
DTEND;VALUE=DATE:20240624
SUMMARY:Ausschreibung — Tiefbauarbeiten
DESCRIPTION:Phase: Ausschreibung | Beschreibung: Offizielle Ausschreibung mit Bieterfrist. | Link: https://ausschreibungsradar.com/ausschreibung/22276776/
URL:https://ausschreibungsradar.com/ausschreibung/22276776/
END:VEVENT
BEGIN:VEVENT
UID:750993bf15bc7809@ausschreibungsradar.com
DTSTAMP:20260424T102435Z
DTSTART;VALUE=DATE:20240624
DTEND;VALUE=DATE:20240624
SUMMARY:Ausschreibung — Tiefbauarbeiten
DESCRIPTION:Phase: Ausschreibung | Beschreibung: Offizielle Ausschreibung mit Bieterfrist. | Link: https://ausschreibungsradar.com/ausschreibung/22276788/
URL:https://ausschreibungsradar.com/ausschreibung/22276788/
END:VEVENT
END:VCALENDAR
