BEGIN:VCALENDAR
VERSION:2.0
PRODID:-//AusschreibungsRadar//Timeline//DE
CALSCALE:GREGORIAN
METHOD:PUBLISH
X-WR-CALNAME:Projekt Sanierung alter Kindergarten Großheide, Gewerk: Heizung Lüft
X-WR-TIMEZONE:Europe/Berlin
BEGIN:VEVENT
UID:5def9e692b5177e8@ausschreibungsradar.com
DTSTAMP:20260425T224849Z
DTSTART;VALUE=DATE:20240625
DTEND;VALUE=DATE:20240625
SUMMARY:Ausschreibung — Sanierung alter Kindergarten Großheide\, Gewerk: Heizung Lüft
DESCRIPTION:Phase: Ausschreibung | Beschreibung: Offizielle Ausschreibung mit Bieterfrist. | Link: https://ausschreibungsradar.com/ausschreibung/22275294/
URL:https://ausschreibungsradar.com/ausschreibung/22275294/
END:VEVENT
BEGIN:VEVENT
UID:da09d17caeff9982@ausschreibungsradar.com
DTSTAMP:20260425T224849Z
DTSTART;VALUE=DATE:20240626
DTEND;VALUE=DATE:20240626
SUMMARY:Ausschreibung — Sanierung alter Kindergarten Großheide\, Gewerk: Heizung Lüft
DESCRIPTION:Phase: Ausschreibung | Beschreibung: Offizielle Ausschreibung mit Bieterfrist. | Link: https://ausschreibungsradar.com/ausschreibung/22281172/
URL:https://ausschreibungsradar.com/ausschreibung/22281172/
END:VEVENT
END:VCALENDAR
