BEGIN:VCALENDAR
VERSION:2.0
PRODID:-//AusschreibungsRadar//Timeline//DE
CALSCALE:GREGORIAN
METHOD:PUBLISH
X-WR-CALNAME:Projekt Mittagsverpflegung für Einrichtungen in Trägerschaft der Sta
X-WR-TIMEZONE:Europe/Berlin
BEGIN:VEVENT
UID:0a630996732282df@ausschreibungsradar.com
DTSTAMP:20260425T150126Z
DTSTART;VALUE=DATE:20250218
DTEND;VALUE=DATE:20250218
SUMMARY:Ausschreibung — Mittagsverpflegung für Einrichtungen in Trägerschaft der Sta
DESCRIPTION:Phase: Ausschreibung | Beschreibung: Angebote werden eingeholt | Link: https://ausschreibungsradar.com/ausschreibung/222b34a6-de0d-4378-b371-b8c4f2eb6a07/
URL:https://ausschreibungsradar.com/ausschreibung/222b34a6-de0d-4378-b371-b8c4f2eb6a07/
END:VEVENT
BEGIN:VEVENT
UID:1a8d761d763feb49@ausschreibungsradar.com
DTSTAMP:20260425T150126Z
DTSTART;VALUE=DATE:20250528
DTEND;VALUE=DATE:20250528
SUMMARY:Vergabeergebnis — Mittagsverpflegung für Einrichtungen in Trägerschaft der Sta
DESCRIPTION:Phase: Vergabeergebnis | Beschreibung: Auftrag wurde zugeschlagen | Link: https://ausschreibungsradar.com/ausschreibung/4b4cdffa-9975-47f1-864c-d3e11d072ded/
URL:https://ausschreibungsradar.com/ausschreibung/4b4cdffa-9975-47f1-864c-d3e11d072ded/
END:VEVENT
END:VCALENDAR
