BEGIN:VCALENDAR
VERSION:2.0
PRODID:-//AusschreibungsRadar//Timeline//DE
CALSCALE:GREGORIAN
METHOD:PUBLISH
X-WR-CALNAME:Projekt Grabow-Schule Haus A - Trockenlegung - Los 1 - Tiefbauarbeit
X-WR-TIMEZONE:Europe/Berlin
BEGIN:VEVENT
UID:586e89de76126344@ausschreibungsradar.com
DTSTAMP:20260425T193714Z
DTSTART;VALUE=DATE:20240704
DTEND;VALUE=DATE:20240704
SUMMARY:Ausschreibung — Grabow-Schule Haus A - Trockenlegung - Los 1 - Tiefbauarbeit
DESCRIPTION:Phase: Ausschreibung | Beschreibung: Offizielle Ausschreibung mit Bieterfrist. | Link: https://ausschreibungsradar.com/ausschreibung/22337012/
URL:https://ausschreibungsradar.com/ausschreibung/22337012/
END:VEVENT
BEGIN:VEVENT
UID:43a234b3b526691c@ausschreibungsradar.com
DTSTAMP:20260425T193714Z
DTSTART;VALUE=DATE:20240704
DTEND;VALUE=DATE:20240704
SUMMARY:Ausschreibung — Grabow-Schule Haus A - Trockenlegung - Los 1 - Tiefbauarbeit
DESCRIPTION:Phase: Ausschreibung | Beschreibung: Offizielle Ausschreibung mit Bieterfrist. | Link: https://ausschreibungsradar.com/ausschreibung/22337016/
URL:https://ausschreibungsradar.com/ausschreibung/22337016/
END:VEVENT
END:VCALENDAR
