BEGIN:VCALENDAR
VERSION:2.0
PRODID:-//AusschreibungsRadar//Timeline//DE
CALSCALE:GREGORIAN
METHOD:PUBLISH
X-WR-CALNAME:Projekt Sanierung alter Kindergarten Großheide, Gewerk: Malerarbeite
X-WR-TIMEZONE:Europe/Berlin
BEGIN:VEVENT
UID:c82b3f5b3839e0a5@ausschreibungsradar.com
DTSTAMP:20260425T225151Z
DTSTART;VALUE=DATE:20240709
DTEND;VALUE=DATE:20240709
SUMMARY:Ausschreibung — Sanierung alter Kindergarten Großheide\, Gewerk: Malerarbeite
DESCRIPTION:Phase: Ausschreibung | Beschreibung: Offizielle Ausschreibung mit Bieterfrist. | Link: https://ausschreibungsradar.com/ausschreibung/22355338/
URL:https://ausschreibungsradar.com/ausschreibung/22355338/
END:VEVENT
BEGIN:VEVENT
UID:f524f0658408e5ef@ausschreibungsradar.com
DTSTAMP:20260425T225151Z
DTSTART;VALUE=DATE:20240710
DTEND;VALUE=DATE:20240710
SUMMARY:Ausschreibung — Sanierung alter Kindergarten Großheide\, Gewerk: Malerarbeite
DESCRIPTION:Phase: Ausschreibung | Beschreibung: Offizielle Ausschreibung mit Bieterfrist. | Link: https://ausschreibungsradar.com/ausschreibung/22362268/
URL:https://ausschreibungsradar.com/ausschreibung/22362268/
END:VEVENT
END:VCALENDAR
