BEGIN:VCALENDAR
VERSION:2.0
PRODID:-//AusschreibungsRadar//Timeline//DE
CALSCALE:GREGORIAN
METHOD:PUBLISH
X-WR-CALNAME:Projekt Neubau Dorfgemeinschaftshaus Alvesse: Einbauküche
X-WR-TIMEZONE:Europe/Berlin
BEGIN:VEVENT
UID:fbda70765a8fe88f@ausschreibungsradar.com
DTSTAMP:20260425T201217Z
DTSTART;VALUE=DATE:20240715
DTEND;VALUE=DATE:20240715
SUMMARY:Ausschreibung — Neubau Dorfgemeinschaftshaus Alvesse: Einbauküche
DESCRIPTION:Phase: Ausschreibung | Beschreibung: Offizielle Ausschreibung mit Bieterfrist. | Link: https://ausschreibungsradar.com/ausschreibung/22396608/
URL:https://ausschreibungsradar.com/ausschreibung/22396608/
END:VEVENT
BEGIN:VEVENT
UID:0af07be7ee1b27eb@ausschreibungsradar.com
DTSTAMP:20260425T201217Z
DTSTART;VALUE=DATE:20240716
DTEND;VALUE=DATE:20240716
SUMMARY:Ausschreibung — Neubau Dorfgemeinschaftshaus Alvesse: Einbauküche
DESCRIPTION:Phase: Ausschreibung | Beschreibung: Offizielle Ausschreibung mit Bieterfrist. | Link: https://ausschreibungsradar.com/ausschreibung/22400804/
URL:https://ausschreibungsradar.com/ausschreibung/22400804/
END:VEVENT
END:VCALENDAR
