BEGIN:VCALENDAR
VERSION:2.0
PRODID:-//AusschreibungsRadar//Timeline//DE
CALSCALE:GREGORIAN
METHOD:PUBLISH
X-WR-CALNAME:Projekt Neubau Dorfgemeinschaftshaus Alvesse: Malerarbeiten
X-WR-TIMEZONE:Europe/Berlin
BEGIN:VEVENT
UID:2bb128421bf73d30@ausschreibungsradar.com
DTSTAMP:20260425T131221Z
DTSTART;VALUE=DATE:20240711
DTEND;VALUE=DATE:20240711
SUMMARY:Ausschreibung — Neubau Dorfgemeinschaftshaus Alvesse: Malerarbeiten
DESCRIPTION:Phase: Ausschreibung | Beschreibung: Offizielle Ausschreibung mit Bieterfrist. | Link: https://ausschreibungsradar.com/ausschreibung/22380760/
URL:https://ausschreibungsradar.com/ausschreibung/22380760/
END:VEVENT
BEGIN:VEVENT
UID:cc0b061b86c5583d@ausschreibungsradar.com
DTSTAMP:20260425T131221Z
DTSTART;VALUE=DATE:20240717
DTEND;VALUE=DATE:20240717
SUMMARY:Ausschreibung — Neubau Dorfgemeinschaftshaus Alvesse: Malerarbeiten
DESCRIPTION:Phase: Ausschreibung | Beschreibung: Offizielle Ausschreibung mit Bieterfrist. | Link: https://ausschreibungsradar.com/ausschreibung/22409064/
URL:https://ausschreibungsradar.com/ausschreibung/22409064/
END:VEVENT
END:VCALENDAR
