BEGIN:VCALENDAR
VERSION:2.0
PRODID:-//AusschreibungsRadar//Timeline//DE
CALSCALE:GREGORIAN
METHOD:PUBLISH
X-WR-CALNAME:Projekt Zangberg: Erweiterung des Kindergarten Herz Jesu Zangberg, I
X-WR-TIMEZONE:Europe/Berlin
BEGIN:VEVENT
UID:2f62c07ba7d42c51@ausschreibungsradar.com
DTSTAMP:20260425T233442Z
DTSTART;VALUE=DATE:20240626
DTEND;VALUE=DATE:20240626
SUMMARY:Zuschlag — Zangberg: Erweiterung des Kindergarten Herz Jesu Zangberg\, I
DESCRIPTION:Phase: Zuschlag | Beschreibung: Vergabeergebnis — Auftrag wurde erteilt oder Verfahren beendet. | Link: https://ausschreibungsradar.com/ausschreibung/22289818/
URL:https://ausschreibungsradar.com/ausschreibung/22289818/
END:VEVENT
BEGIN:VEVENT
UID:2d8163026158482a@ausschreibungsradar.com
DTSTAMP:20260425T233442Z
DTSTART;VALUE=DATE:20240726
DTEND;VALUE=DATE:20240726
SUMMARY:Zuschlag — Zangberg: Erweiterung des Kindergarten Herz Jesu Zangberg\, I
DESCRIPTION:Phase: Zuschlag | Beschreibung: Vergabeergebnis — Auftrag wurde erteilt oder Verfahren beendet. | Link: https://ausschreibungsradar.com/ausschreibung/22447794/
URL:https://ausschreibungsradar.com/ausschreibung/22447794/
END:VEVENT
END:VCALENDAR
