BEGIN:VCALENDAR
VERSION:2.0
PRODID:-//AusschreibungsRadar//Timeline//DE
CALSCALE:GREGORIAN
METHOD:PUBLISH
X-WR-CALNAME:Projekt Ersatzneubau Einfeldsporthalle Bergwitz - Tischlerarbeiten
X-WR-TIMEZONE:Europe/Berlin
BEGIN:VEVENT
UID:ac476b073407609b@ausschreibungsradar.com
DTSTAMP:20260423T232936Z
DTSTART;VALUE=DATE:20240717
DTEND;VALUE=DATE:20240717
SUMMARY:Ausschreibung — Ersatzneubau Einfeldsporthalle Bergwitz - Tischlerarbeiten
DESCRIPTION:Phase: Ausschreibung | Beschreibung: Offizielle Ausschreibung mit Bieterfrist. | Link: https://ausschreibungsradar.com/ausschreibung/22401704/
URL:https://ausschreibungsradar.com/ausschreibung/22401704/
END:VEVENT
BEGIN:VEVENT
UID:bdc9d0dd2b2994ea@ausschreibungsradar.com
DTSTAMP:20260423T232936Z
DTSTART;VALUE=DATE:20240717
DTEND;VALUE=DATE:20240717
SUMMARY:Ausschreibung — Ersatzneubau Einfeldsporthalle Bergwitz - Tischlerarbeiten
DESCRIPTION:Phase: Ausschreibung | Beschreibung: Offizielle Ausschreibung mit Bieterfrist. | Link: https://ausschreibungsradar.com/ausschreibung/22401716/
URL:https://ausschreibungsradar.com/ausschreibung/22401716/
END:VEVENT
BEGIN:VEVENT
UID:289e4bf775f461b0@ausschreibungsradar.com
DTSTAMP:20260423T232936Z
DTSTART;VALUE=DATE:20240731
DTEND;VALUE=DATE:20240731
SUMMARY:Ausschreibung — Ersatzneubau Einfeldsporthalle Bergwitz - Tischlerarbeiten
DESCRIPTION:Phase: Ausschreibung | Beschreibung: Offizielle Ausschreibung mit Bieterfrist. | Link: https://ausschreibungsradar.com/ausschreibung/22459726/
URL:https://ausschreibungsradar.com/ausschreibung/22459726/
END:VEVENT
BEGIN:VEVENT
UID:52ade937a04a8a35@ausschreibungsradar.com
DTSTAMP:20260423T232936Z
DTSTART;VALUE=DATE:20240807
DTEND;VALUE=DATE:20240807
SUMMARY:Ausschreibung — Ersatzneubau Einfeldsporthalle Bergwitz - Tischlerarbeiten
DESCRIPTION:Phase: Ausschreibung | Beschreibung: Offizielle Ausschreibung mit Bieterfrist. | Link: https://ausschreibungsradar.com/ausschreibung/22521470/
URL:https://ausschreibungsradar.com/ausschreibung/22521470/
END:VEVENT
BEGIN:VEVENT
UID:e578e88068b1ed63@ausschreibungsradar.com
DTSTAMP:20260423T232936Z
DTSTART;VALUE=DATE:20240820
DTEND;VALUE=DATE:20240820
SUMMARY:Ausschreibung — Ersatzneubau Einfeldsporthalle Bergwitz - Tischlerarbeiten
DESCRIPTION:Phase: Ausschreibung | Beschreibung: Offizielle Ausschreibung mit Bieterfrist. | Link: https://ausschreibungsradar.com/ausschreibung/22585746/
URL:https://ausschreibungsradar.com/ausschreibung/22585746/
END:VEVENT
END:VCALENDAR
