BEGIN:VCALENDAR
VERSION:2.0
PRODID:-//AusschreibungsRadar//Timeline//DE
CALSCALE:GREGORIAN
METHOD:PUBLISH
X-WR-CALNAME:Projekt Wartung MSR, Heizung, RLT und Kälte (#2)
X-WR-TIMEZONE:Europe/Berlin
BEGIN:VEVENT
UID:a8f958ffecff6c46@ausschreibungsradar.com
DTSTAMP:20260425T142451Z
DTSTART;VALUE=DATE:20240816
DTEND;VALUE=DATE:20240816
SUMMARY:Zuschlag — Wartung MSR\, Heizung\, RLT und Kälte (#2)
DESCRIPTION:Phase: Zuschlag | Beschreibung: Vergabeergebnis — Auftrag wurde erteilt oder Verfahren beendet. | Link: https://ausschreibungsradar.com/ausschreibung/22573678/
URL:https://ausschreibungsradar.com/ausschreibung/22573678/
END:VEVENT
BEGIN:VEVENT
UID:89a45a7d3647275b@ausschreibungsradar.com
DTSTAMP:20260425T142451Z
DTSTART;VALUE=DATE:20240816
DTEND;VALUE=DATE:20240816
SUMMARY:Zuschlag — Wartung MSR\, Heizung\, RLT und Kälte (#2)
DESCRIPTION:Phase: Zuschlag | Beschreibung: Vergabeergebnis — Auftrag wurde erteilt oder Verfahren beendet. | Link: https://ausschreibungsradar.com/ausschreibung/22573674/
URL:https://ausschreibungsradar.com/ausschreibung/22573674/
END:VEVENT
END:VCALENDAR
