BEGIN:VCALENDAR
VERSION:2.0
PRODID:-//AusschreibungsRadar//Timeline//DE
CALSCALE:GREGORIAN
METHOD:PUBLISH
X-WR-CALNAME:Projekt Ersatzneubau Einfeldsporthalle Bergwitz - Sportgeräte und so
X-WR-TIMEZONE:Europe/Berlin
BEGIN:VEVENT
UID:289e4bf775f461b0@ausschreibungsradar.com
DTSTAMP:20260424T192028Z
DTSTART;VALUE=DATE:20240731
DTEND;VALUE=DATE:20240731
SUMMARY:Ausschreibung — Ersatzneubau Einfeldsporthalle Bergwitz - Sportgeräte und so
DESCRIPTION:Phase: Ausschreibung | Beschreibung: Offizielle Ausschreibung mit Bieterfrist. | Link: https://ausschreibungsradar.com/ausschreibung/22459726/
URL:https://ausschreibungsradar.com/ausschreibung/22459726/
END:VEVENT
BEGIN:VEVENT
UID:e578e88068b1ed63@ausschreibungsradar.com
DTSTAMP:20260424T192028Z
DTSTART;VALUE=DATE:20240820
DTEND;VALUE=DATE:20240820
SUMMARY:Ausschreibung — Ersatzneubau Einfeldsporthalle Bergwitz - Sportgeräte und so
DESCRIPTION:Phase: Ausschreibung | Beschreibung: Offizielle Ausschreibung mit Bieterfrist. | Link: https://ausschreibungsradar.com/ausschreibung/22585746/
URL:https://ausschreibungsradar.com/ausschreibung/22585746/
END:VEVENT
END:VCALENDAR
