BEGIN:VCALENDAR
VERSION:2.0
PRODID:-//AusschreibungsRadar//Timeline//DE
CALSCALE:GREGORIAN
METHOD:PUBLISH
X-WR-CALNAME:Projekt Gebäude- und Inventarversicherung des Bezirkes Oberpfalz
X-WR-TIMEZONE:Europe/Berlin
BEGIN:VEVENT
UID:38886d490eca477e@ausschreibungsradar.com
DTSTAMP:20260424T033200Z
DTSTART;VALUE=DATE:20240725
DTEND;VALUE=DATE:20240725
SUMMARY:Ausschreibung — Gebäude- und Inventarversicherung des Bezirkes Oberpfalz
DESCRIPTION:Phase: Ausschreibung | Beschreibung: Offizielle Ausschreibung mit Bieterfrist. | Link: https://ausschreibungsradar.com/ausschreibung/22420410/
URL:https://ausschreibungsradar.com/ausschreibung/22420410/
END:VEVENT
BEGIN:VEVENT
UID:9efc25c6b359dca7@ausschreibungsradar.com
DTSTAMP:20260424T033200Z
DTSTART;VALUE=DATE:20240822
DTEND;VALUE=DATE:20240822
SUMMARY:Ausschreibung — Gebäude- und Inventarversicherung des Bezirkes Oberpfalz
DESCRIPTION:Phase: Ausschreibung | Beschreibung: Offizielle Ausschreibung mit Bieterfrist. | Link: https://ausschreibungsradar.com/ausschreibung/22597406/
URL:https://ausschreibungsradar.com/ausschreibung/22597406/
END:VEVENT
BEGIN:VEVENT
UID:ebebc7af6c920ebc@ausschreibungsradar.com
DTSTAMP:20260424T033200Z
DTSTART;VALUE=DATE:20240905
DTEND;VALUE=DATE:20240905
SUMMARY:Ausschreibung — Gebäude- und Inventarversicherung des Bezirkes Oberpfalz
DESCRIPTION:Phase: Ausschreibung | Beschreibung: Offizielle Ausschreibung mit Bieterfrist. | Link: https://ausschreibungsradar.com/ausschreibung/22667886/
URL:https://ausschreibungsradar.com/ausschreibung/22667886/
END:VEVENT
END:VCALENDAR
