BEGIN:VCALENDAR
VERSION:2.0
PRODID:-//AusschreibungsRadar//Timeline//DE
CALSCALE:GREGORIAN
METHOD:PUBLISH
X-WR-CALNAME:Projekt Errichtung Halle Bauhof Berbisdorf - Elektroinstallation
X-WR-TIMEZONE:Europe/Berlin
BEGIN:VEVENT
UID:4538b239f00d8a75@ausschreibungsradar.com
DTSTAMP:20260424T132458Z
DTSTART;VALUE=DATE:20240823
DTEND;VALUE=DATE:20240823
SUMMARY:Ausschreibung — Errichtung Halle Bauhof Berbisdorf - Elektroinstallation
DESCRIPTION:Phase: Ausschreibung | Beschreibung: Offizielle Ausschreibung mit Bieterfrist. | Link: https://ausschreibungsradar.com/ausschreibung/22604072/
URL:https://ausschreibungsradar.com/ausschreibung/22604072/
END:VEVENT
BEGIN:VEVENT
UID:095f70de3a0e3ddc@ausschreibungsradar.com
DTSTAMP:20260424T132458Z
DTSTART;VALUE=DATE:20240902
DTEND;VALUE=DATE:20240902
SUMMARY:Ausschreibung — Errichtung Halle Bauhof Berbisdorf - Elektroinstallation
DESCRIPTION:Phase: Ausschreibung | Beschreibung: Offizielle Ausschreibung mit Bieterfrist. | Link: https://ausschreibungsradar.com/ausschreibung/22646460/
URL:https://ausschreibungsradar.com/ausschreibung/22646460/
END:VEVENT
END:VCALENDAR
