BEGIN:VCALENDAR
VERSION:2.0
PRODID:-//AusschreibungsRadar//Timeline//DE
CALSCALE:GREGORIAN
METHOD:PUBLISH
X-WR-CALNAME:Projekt Dogern : Neubau einer 6-gruppigen Kindertagesstätte
X-WR-TIMEZONE:Europe/Berlin
BEGIN:VEVENT
UID:0db1fee0533bbe62@ausschreibungsradar.com
DTSTAMP:20260424T085919Z
DTSTART;VALUE=DATE:20240903
DTEND;VALUE=DATE:20240903
SUMMARY:Zuschlag — Dogern : Neubau einer 6-gruppigen Kindertagesstätte
DESCRIPTION:Phase: Zuschlag | Beschreibung: Vergabeergebnis — Auftrag wurde erteilt oder Verfahren beendet. | Link: https://ausschreibungsradar.com/ausschreibung/22657372/
URL:https://ausschreibungsradar.com/ausschreibung/22657372/
END:VEVENT
BEGIN:VEVENT
UID:93977ae63046774c@ausschreibungsradar.com
DTSTAMP:20260424T085919Z
DTSTART;VALUE=DATE:20240903
DTEND;VALUE=DATE:20240903
SUMMARY:Ausschreibung — Dogern : Neubau einer 6-gruppigen Kindertagesstätte
DESCRIPTION:Phase: Ausschreibung | Beschreibung: Offizielle Ausschreibung mit Bieterfrist. | Link: https://ausschreibungsradar.com/ausschreibung/22657480/
URL:https://ausschreibungsradar.com/ausschreibung/22657480/
END:VEVENT
END:VCALENDAR
