BEGIN:VCALENDAR
VERSION:2.0
PRODID:-//AusschreibungsRadar//Timeline//DE
CALSCALE:GREGORIAN
METHOD:PUBLISH
X-WR-CALNAME:Projekt Neubau Kultur- und Sporthalle - Maler- und Lackierarbeiten
X-WR-TIMEZONE:Europe/Berlin
BEGIN:VEVENT
UID:a4df4416b9bfafac@ausschreibungsradar.com
DTSTAMP:20260425T225133Z
DTSTART;VALUE=DATE:20240812
DTEND;VALUE=DATE:20240812
SUMMARY:Zuschlag — Neubau Kultur- und Sporthalle - Maler- und Lackierarbeiten
DESCRIPTION:Phase: Zuschlag | Beschreibung: Vergabeergebnis — Auftrag wurde erteilt oder Verfahren beendet. | Link: https://ausschreibungsradar.com/ausschreibung/3146503d-98fd-446e-9fae-c3211e679e47/
URL:https://ausschreibungsradar.com/ausschreibung/3146503d-98fd-446e-9fae-c3211e679e47/
END:VEVENT
BEGIN:VEVENT
UID:4a4d65b01aed838f@ausschreibungsradar.com
DTSTAMP:20260425T225133Z
DTSTART;VALUE=DATE:20240906
DTEND;VALUE=DATE:20240906
SUMMARY:Ausschreibung — Neubau Kultur- und Sporthalle - Maler- und Lackierarbeiten
DESCRIPTION:Phase: Ausschreibung | Beschreibung: Offizielle Ausschreibung mit Bieterfrist. | Link: https://ausschreibungsradar.com/ausschreibung/22676742/
URL:https://ausschreibungsradar.com/ausschreibung/22676742/
END:VEVENT
BEGIN:VEVENT
UID:b333c143faa744bd@ausschreibungsradar.com
DTSTAMP:20260425T225133Z
DTSTART;VALUE=DATE:20240909
DTEND;VALUE=DATE:20240909
SUMMARY:Ausschreibung — Neubau Kultur- und Sporthalle - Maler- und Lackierarbeiten
DESCRIPTION:Phase: Ausschreibung | Beschreibung: Offizielle Ausschreibung mit Bieterfrist. | Link: https://ausschreibungsradar.com/ausschreibung/22684184/
URL:https://ausschreibungsradar.com/ausschreibung/22684184/
END:VEVENT
END:VCALENDAR
