BEGIN:VCALENDAR
VERSION:2.0
PRODID:-//AusschreibungsRadar//Timeline//DE
CALSCALE:GREGORIAN
METHOD:PUBLISH
X-WR-CALNAME:Projekt Zimmerer- und Dachdeckerarbeiten
X-WR-TIMEZONE:Europe/Berlin
BEGIN:VEVENT
UID:23952446bb93213c@ausschreibungsradar.com
DTSTAMP:20260425T143433Z
DTSTART;VALUE=DATE:20240913
DTEND;VALUE=DATE:20240913
SUMMARY:Zuschlag — Zimmerer- und Dachdeckerarbeiten
DESCRIPTION:Phase: Zuschlag | Beschreibung: Vergabeergebnis — Auftrag wurde erteilt oder Verfahren beendet. | Link: https://ausschreibungsradar.com/ausschreibung/22712084/
URL:https://ausschreibungsradar.com/ausschreibung/22712084/
END:VEVENT
BEGIN:VEVENT
UID:1c3028f9734bf904@ausschreibungsradar.com
DTSTAMP:20260425T143433Z
DTSTART;VALUE=DATE:20240923
DTEND;VALUE=DATE:20240923
SUMMARY:Ausschreibung — Zimmerer- und Dachdeckerarbeiten
DESCRIPTION:Phase: Ausschreibung | Beschreibung: Offizielle Ausschreibung mit Bieterfrist. | Link: https://ausschreibungsradar.com/ausschreibung/22759818/
URL:https://ausschreibungsradar.com/ausschreibung/22759818/
END:VEVENT
END:VCALENDAR
