BEGIN:VCALENDAR
VERSION:2.0
PRODID:-//AusschreibungsRadar//Timeline//DE
CALSCALE:GREGORIAN
METHOD:PUBLISH
X-WR-CALNAME:Projekt Aufzugsanlage Kita Neubau Herrengrund
X-WR-TIMEZONE:Europe/Berlin
BEGIN:VEVENT
UID:abdf53aa8089b06b@ausschreibungsradar.com
DTSTAMP:20260425T201153Z
DTSTART;VALUE=DATE:20240924
DTEND;VALUE=DATE:20240924
SUMMARY:Ausschreibung — Aufzugsanlage Kita Neubau Herrengrund
DESCRIPTION:Phase: Ausschreibung | Beschreibung: Offizielle Ausschreibung mit Bieterfrist. | Link: https://ausschreibungsradar.com/ausschreibung/31a3fbab-165c-4c18-83dc-f9e60afb411d/
URL:https://ausschreibungsradar.com/ausschreibung/31a3fbab-165c-4c18-83dc-f9e60afb411d/
END:VEVENT
BEGIN:VEVENT
UID:98fce182d9d9ee1c@ausschreibungsradar.com
DTSTAMP:20260425T201153Z
DTSTART;VALUE=DATE:20240925
DTEND;VALUE=DATE:20240925
SUMMARY:Ausschreibung — Aufzugsanlage Kita Neubau Herrengrund
DESCRIPTION:Phase: Ausschreibung | Beschreibung: Offizielle Ausschreibung mit Bieterfrist. | Link: https://ausschreibungsradar.com/ausschreibung/22771218/
URL:https://ausschreibungsradar.com/ausschreibung/22771218/
END:VEVENT
END:VCALENDAR
