BEGIN:VCALENDAR
VERSION:2.0
PRODID:-//AusschreibungsRadar//Timeline//DE
CALSCALE:GREGORIAN
METHOD:PUBLISH
X-WR-CALNAME:Projekt Bodenbelag
X-WR-TIMEZONE:Europe/Berlin
BEGIN:VEVENT
UID:14b1a9ad74cc7a07@ausschreibungsradar.com
DTSTAMP:20260424T132448Z
DTSTART;VALUE=DATE:20241022
DTEND;VALUE=DATE:20241022
SUMMARY:Ausschreibung — Bodenbelag
DESCRIPTION:Phase: Ausschreibung | Beschreibung: Offizielle Ausschreibung mit Bieterfrist. | Link: https://ausschreibungsradar.com/ausschreibung/22899662/
URL:https://ausschreibungsradar.com/ausschreibung/22899662/
END:VEVENT
BEGIN:VEVENT
UID:758b4375f95d2a18@ausschreibungsradar.com
DTSTAMP:20260424T132448Z
DTSTART;VALUE=DATE:20241023
DTEND;VALUE=DATE:20241023
SUMMARY:Zuschlag — Bodenbelag
DESCRIPTION:Phase: Zuschlag | Beschreibung: Vergabeergebnis — Auftrag wurde erteilt oder Verfahren beendet. | Link: https://ausschreibungsradar.com/ausschreibung/22904066/
URL:https://ausschreibungsradar.com/ausschreibung/22904066/
END:VEVENT
END:VCALENDAR
