BEGIN:VCALENDAR
VERSION:2.0
PRODID:-//AusschreibungsRadar//Timeline//DE
CALSCALE:GREGORIAN
METHOD:PUBLISH
X-WR-CALNAME:Projekt Neubau Vierfach-Sporthalle Dinslaken - VE 420 - Heizung (Wär
X-WR-TIMEZONE:Europe/Berlin
BEGIN:VEVENT
UID:ebc1af8423b916d3@ausschreibungsradar.com
DTSTAMP:20260424T233334Z
DTSTART;VALUE=DATE:20241011
DTEND;VALUE=DATE:20241011
SUMMARY:Ausschreibung — Neubau Vierfach-Sporthalle Dinslaken - VE 420 - Heizung (Wär
DESCRIPTION:Phase: Ausschreibung | Beschreibung: Offizielle Ausschreibung mit Bieterfrist. | Link: https://ausschreibungsradar.com/ausschreibung/8d8b8bc5-1e11-49e6-a8a3-438ddca157cc/
URL:https://ausschreibungsradar.com/ausschreibung/8d8b8bc5-1e11-49e6-a8a3-438ddca157cc/
END:VEVENT
BEGIN:VEVENT
UID:6c84580b7ab33d13@ausschreibungsradar.com
DTSTAMP:20260424T233334Z
DTSTART;VALUE=DATE:20241103
DTEND;VALUE=DATE:20241103
SUMMARY:Ausschreibung — Neubau Vierfach-Sporthalle Dinslaken - VE 420 - Heizung (Wär
DESCRIPTION:Phase: Ausschreibung | Beschreibung: Offizielle Ausschreibung mit Bieterfrist. | Link: https://ausschreibungsradar.com/ausschreibung/22951758/
URL:https://ausschreibungsradar.com/ausschreibung/22951758/
END:VEVENT
BEGIN:VEVENT
UID:709ee2610a1564b9@ausschreibungsradar.com
DTSTAMP:20260424T233334Z
DTSTART;VALUE=DATE:20241113
DTEND;VALUE=DATE:20241113
SUMMARY:Zuschlag — Neubau Vierfach-Sporthalle Dinslaken - VE 420 - Heizung (Wär
DESCRIPTION:Phase: Zuschlag | Beschreibung: Vergabeergebnis — Auftrag wurde erteilt oder Verfahren beendet. | Link: https://ausschreibungsradar.com/ausschreibung/4f5b4002-e35b-4048-957d-9defeb5b4ca8/
URL:https://ausschreibungsradar.com/ausschreibung/4f5b4002-e35b-4048-957d-9defeb5b4ca8/
END:VEVENT
END:VCALENDAR
