BEGIN:VCALENDAR
VERSION:2.0
PRODID:-//AusschreibungsRadar//Timeline//DE
CALSCALE:GREGORIAN
METHOD:PUBLISH
X-WR-CALNAME:Projekt Ersatzneubau einer Vierfeldsporthalle in Cuxhaven - Estricha
X-WR-TIMEZONE:Europe/Berlin
BEGIN:VEVENT
UID:cfc8226c28b0bc01@ausschreibungsradar.com
DTSTAMP:20260425T120306Z
DTSTART;VALUE=DATE:20241011
DTEND;VALUE=DATE:20241011
SUMMARY:Ausschreibung — Ersatzneubau einer Vierfeldsporthalle in Cuxhaven - Estricha
DESCRIPTION:Phase: Ausschreibung | Beschreibung: Offizielle Ausschreibung mit Bieterfrist. | Link: https://ausschreibungsradar.com/ausschreibung/ad8a980c-ceec-4f74-b0e6-5f1de3dd7e0c/
URL:https://ausschreibungsradar.com/ausschreibung/ad8a980c-ceec-4f74-b0e6-5f1de3dd7e0c/
END:VEVENT
BEGIN:VEVENT
UID:726b8549271097e6@ausschreibungsradar.com
DTSTAMP:20260425T120306Z
DTSTART;VALUE=DATE:20241106
DTEND;VALUE=DATE:20241106
SUMMARY:Ausschreibung — Ersatzneubau einer Vierfeldsporthalle in Cuxhaven - Estricha
DESCRIPTION:Phase: Ausschreibung | Beschreibung: Offizielle Ausschreibung mit Bieterfrist. | Link: https://ausschreibungsradar.com/ausschreibung/22963396/
URL:https://ausschreibungsradar.com/ausschreibung/22963396/
END:VEVENT
END:VCALENDAR
