BEGIN:VCALENDAR
VERSION:2.0
PRODID:-//AusschreibungsRadar//Timeline//DE
CALSCALE:GREGORIAN
METHOD:PUBLISH
X-WR-CALNAME:Projekt Oberhof, Gräfenrodaer Straße 9-11, Neuerrichtung 30 WE, Los 
X-WR-TIMEZONE:Europe/Berlin
BEGIN:VEVENT
UID:b1b19239be7c28b0@ausschreibungsradar.com
DTSTAMP:20260424T173403Z
DTSTART;VALUE=DATE:20230201
DTEND;VALUE=DATE:20230201
SUMMARY:Ausschreibung — Oberhof\, Gräfenrodaer Straße 9-11\, Neuerrichtung 30 WE\, Los 
DESCRIPTION:Phase: Ausschreibung | Beschreibung: Offizielle Ausschreibung mit Bieterfrist. | Link: https://ausschreibungsradar.com/ausschreibung/0c9e66ac-f326-4b6d-9ec3-b0127bf3bdcb/
URL:https://ausschreibungsradar.com/ausschreibung/0c9e66ac-f326-4b6d-9ec3-b0127bf3bdcb/
END:VEVENT
BEGIN:VEVENT
UID:86017d14f5af348d@ausschreibungsradar.com
DTSTAMP:20260424T173403Z
DTSTART;VALUE=DATE:20230227
DTEND;VALUE=DATE:20230227
SUMMARY:Ausschreibung — Oberhof\, Gräfenrodaer Straße 9-11\, Neuerrichtung 30 WE\, Los 
DESCRIPTION:Phase: Ausschreibung | Beschreibung: Angebote werden eingeholt | Link: https://ausschreibungsradar.com/ausschreibung/22b6e8ca-ec2d-47b4-a775-552b67a755f6/ | Geschätzter Wert: 1177500 €
URL:https://ausschreibungsradar.com/ausschreibung/22b6e8ca-ec2d-47b4-a775-552b67a755f6/
END:VEVENT
BEGIN:VEVENT
UID:fe021b84983924e4@ausschreibungsradar.com
DTSTAMP:20260424T173403Z
DTSTART;VALUE=DATE:20230227
DTEND;VALUE=DATE:20230227
SUMMARY:Änderung — Oberhof\, Gräfenrodaer Straße 9-11\, Neuerrichtung 30 WE\, Los 
DESCRIPTION:Phase: Änderung | Beschreibung: Ausschreibung wurde angepasst | Link: https://ausschreibungsradar.com/ausschreibung/22b6e8ca-ec2d-47b4-a775-552b67a755f6/ | Geschätzter Wert: 1177500 €
URL:https://ausschreibungsradar.com/ausschreibung/22b6e8ca-ec2d-47b4-a775-552b67a755f6/
END:VEVENT
BEGIN:VEVENT
UID:cf59b22986358a7b@ausschreibungsradar.com
DTSTAMP:20260424T173403Z
DTSTART;VALUE=DATE:20230227
DTEND;VALUE=DATE:20230227
SUMMARY:Änderung — Oberhof\, Gräfenrodaer Straße 9-11\, Neuerrichtung 30 WE\, Los 
DESCRIPTION:Phase: Änderung | Beschreibung: Nachtrag oder Korrektur zur Bekanntmachung. | Link: https://ausschreibungsradar.com/ausschreibung/634b3dd2-62f0-4041-a4d7-3aae1e1aa364/
URL:https://ausschreibungsradar.com/ausschreibung/634b3dd2-62f0-4041-a4d7-3aae1e1aa364/
END:VEVENT
BEGIN:VEVENT
UID:8c83f88e6c1a122f@ausschreibungsradar.com
DTSTAMP:20260424T173403Z
DTSTART;VALUE=DATE:20230303
DTEND;VALUE=DATE:20230303
SUMMARY:Ausschreibung — Oberhof\, Gräfenrodaer Straße 9-11\, Neuerrichtung 30 WE\, Los 
DESCRIPTION:Phase: Ausschreibung | Beschreibung: Offizielle Ausschreibung mit Bieterfrist. | Link: https://ausschreibungsradar.com/ausschreibung/2fbff155-a190-46fd-9609-740303cab4c4/
URL:https://ausschreibungsradar.com/ausschreibung/2fbff155-a190-46fd-9609-740303cab4c4/
END:VEVENT
BEGIN:VEVENT
UID:63a0ff0cf591a76c@ausschreibungsradar.com
DTSTAMP:20260424T173403Z
DTSTART;VALUE=DATE:20230303
DTEND;VALUE=DATE:20230303
SUMMARY:Änderung — Oberhof\, Gräfenrodaer Straße 9-11\, Neuerrichtung 30 WE\, Los 
DESCRIPTION:Phase: Änderung | Beschreibung: Nachtrag oder Korrektur zur Bekanntmachung. | Link: https://ausschreibungsradar.com/ausschreibung/94753c3a-de7d-4b58-83d5-a39645536d81/
URL:https://ausschreibungsradar.com/ausschreibung/94753c3a-de7d-4b58-83d5-a39645536d81/
END:VEVENT
BEGIN:VEVENT
UID:0f4734761f92cb23@ausschreibungsradar.com
DTSTAMP:20260424T173403Z
DTSTART;VALUE=DATE:20230728
DTEND;VALUE=DATE:20230728
SUMMARY:Vergabeergebnis — Oberhof\, Gräfenrodaer Straße 9-11\, Neuerrichtung 30 WE\, Los 
DESCRIPTION:Phase: Vergabeergebnis | Beschreibung: Auftrag wurde zugeschlagen | Link: https://ausschreibungsradar.com/ausschreibung/e00bb86c-6346-477f-8ea5-090cf56078a9/ | Auftragnehmer: Ingenieurbüro Bernd Pfist
URL:https://ausschreibungsradar.com/ausschreibung/e00bb86c-6346-477f-8ea5-090cf56078a9/
END:VEVENT
END:VCALENDAR
