BEGIN:VCALENDAR
VERSION:2.0
PRODID:-//AusschreibungsRadar//Timeline//DE
CALSCALE:GREGORIAN
METHOD:PUBLISH
X-WR-CALNAME:Projekt Trinkwasserversorgung Münsterhalden
X-WR-TIMEZONE:Europe/Berlin
BEGIN:VEVENT
UID:c4bfff81d622a5ba@ausschreibungsradar.com
DTSTAMP:20260424T233402Z
DTSTART;VALUE=DATE:20250928
DTEND;VALUE=DATE:20250928
SUMMARY:Ausschreibung — Trinkwasserversorgung Münsterhalden
DESCRIPTION:Phase: Ausschreibung | Beschreibung: Angebote werden eingeholt | Link: https://ausschreibungsradar.com/ausschreibung/054f8fa4-32e9-4826-bd5e-6087fe7be94a/ | Geschätzter Wert: 460110 €
URL:https://ausschreibungsradar.com/ausschreibung/054f8fa4-32e9-4826-bd5e-6087fe7be94a/
END:VEVENT
BEGIN:VEVENT
UID:c00769fd4a6a2300@ausschreibungsradar.com
DTSTAMP:20260424T233402Z
DTSTART;VALUE=DATE:20260228
DTEND;VALUE=DATE:20260228
SUMMARY:Vergabeergebnis — Trinkwasserversorgung Münsterhalden
DESCRIPTION:Phase: Vergabeergebnis | Beschreibung: Auftrag wurde zugeschlagen | Link: https://ausschreibungsradar.com/ausschreibung/22c0c831-963a-45ef-97e4-8be231326451/ | Geschätzter Wert: 460110 €
URL:https://ausschreibungsradar.com/ausschreibung/22c0c831-963a-45ef-97e4-8be231326451/
END:VEVENT
END:VCALENDAR
