BEGIN:VCALENDAR
VERSION:2.0
PRODID:-//AusschreibungsRadar//Timeline//DE
CALSCALE:GREGORIAN
METHOD:PUBLISH
X-WR-CALNAME:Projekt Abschluss eines Rahmenvertrages über die Ausrichtung des MBA
X-WR-TIMEZONE:Europe/Berlin
BEGIN:VEVENT
UID:16d7e713b4121a06@ausschreibungsradar.com
DTSTAMP:20260424T151240Z
DTSTART;VALUE=DATE:20241023
DTEND;VALUE=DATE:20241023
SUMMARY:Ausschreibung — Abschluss eines Rahmenvertrages über die Ausrichtung des MBA
DESCRIPTION:Phase: Ausschreibung | Beschreibung: Offizielle Ausschreibung mit Bieterfrist. | Link: https://ausschreibungsradar.com/ausschreibung/47c944fb-486e-46a5-bd52-bd6a9af8a512/
URL:https://ausschreibungsradar.com/ausschreibung/47c944fb-486e-46a5-bd52-bd6a9af8a512/
END:VEVENT
BEGIN:VEVENT
UID:f114cca5b5cbcefe@ausschreibungsradar.com
DTSTAMP:20260424T151240Z
DTSTART;VALUE=DATE:20241114
DTEND;VALUE=DATE:20241114
SUMMARY:Ausschreibung — Abschluss eines Rahmenvertrages über die Ausrichtung des MBA
DESCRIPTION:Phase: Ausschreibung | Beschreibung: Offizielle Ausschreibung mit Bieterfrist. | Link: https://ausschreibungsradar.com/ausschreibung/23004268/
URL:https://ausschreibungsradar.com/ausschreibung/23004268/
END:VEVENT
END:VCALENDAR
