BEGIN:VCALENDAR
VERSION:2.0
PRODID:-//AusschreibungsRadar//Timeline//DE
CALSCALE:GREGORIAN
METHOD:PUBLISH
X-WR-CALNAME:Projekt Instandhaltungsvertrag - UHW und EHK -
X-WR-TIMEZONE:Europe/Berlin
BEGIN:VEVENT
UID:7972c0da95402aef@ausschreibungsradar.com
DTSTAMP:20260424T152140Z
DTSTART;VALUE=DATE:20260106
DTEND;VALUE=DATE:20260106
SUMMARY:Ausschreibung — Instandhaltungsvertrag - UHW und EHK -
DESCRIPTION:Phase: Ausschreibung | Beschreibung: Angebote werden eingeholt | Link: https://ausschreibungsradar.com/ausschreibung/21a69631-312e-45f6-9247-11850a42a84f/
URL:https://ausschreibungsradar.com/ausschreibung/21a69631-312e-45f6-9247-11850a42a84f/
END:VEVENT
BEGIN:VEVENT
UID:bc54a018a6dc7c44@ausschreibungsradar.com
DTSTAMP:20260424T152140Z
DTSTART;VALUE=DATE:20260420
DTEND;VALUE=DATE:20260420
SUMMARY:Vergabeergebnis — Instandhaltungsvertrag - UHW und EHK -
DESCRIPTION:Phase: Vergabeergebnis | Beschreibung: Auftrag wurde zugeschlagen | Link: https://ausschreibungsradar.com/ausschreibung/23049c46-e2ad-4259-8781-581127876285/
URL:https://ausschreibungsradar.com/ausschreibung/23049c46-e2ad-4259-8781-581127876285/
END:VEVENT
BEGIN:VEVENT
UID:31a4ea31800c27b6@ausschreibungsradar.com
DTSTAMP:20260424T152140Z
DTSTART;VALUE=DATE:20260421
DTEND;VALUE=DATE:20260421
SUMMARY:Zuschlag — Instandhaltungsvertrag - UHW und EHK -
DESCRIPTION:Phase: Zuschlag | Beschreibung: Vergabeergebnis — Auftrag wurde erteilt oder Verfahren beendet. | Link: https://ausschreibungsradar.com/ausschreibung/ted-270458-2026/
URL:https://ausschreibungsradar.com/ausschreibung/ted-270458-2026/
END:VEVENT
END:VCALENDAR
