BEGIN:VCALENDAR
VERSION:2.0
PRODID:-//AusschreibungsRadar//Timeline//DE
CALSCALE:GREGORIAN
METHOD:PUBLISH
X-WR-CALNAME:Projekt Sanierung Markgrafenhalle Neustadt an der Aisch
X-WR-TIMEZONE:Europe/Berlin
BEGIN:VEVENT
UID:26d473c95d074a88@ausschreibungsradar.com
DTSTAMP:20260424T151237Z
DTSTART;VALUE=DATE:20241122
DTEND;VALUE=DATE:20241122
SUMMARY:Ausschreibung — Sanierung Markgrafenhalle Neustadt an der Aisch
DESCRIPTION:Phase: Ausschreibung | Beschreibung: Offizielle Ausschreibung mit Bieterfrist. | Link: https://ausschreibungsradar.com/ausschreibung/23054066/
URL:https://ausschreibungsradar.com/ausschreibung/23054066/
END:VEVENT
BEGIN:VEVENT
UID:f7aa20de3ace0c05@ausschreibungsradar.com
DTSTAMP:20260424T151237Z
DTSTART;VALUE=DATE:20241122
DTEND;VALUE=DATE:20241122
SUMMARY:Ausschreibung — Sanierung Markgrafenhalle Neustadt an der Aisch
DESCRIPTION:Phase: Ausschreibung | Beschreibung: Offizielle Ausschreibung mit Bieterfrist. | Link: https://ausschreibungsradar.com/ausschreibung/23054074/
URL:https://ausschreibungsradar.com/ausschreibung/23054074/
END:VEVENT
BEGIN:VEVENT
UID:9285eea6e7a6ecd7@ausschreibungsradar.com
DTSTAMP:20260424T151237Z
DTSTART;VALUE=DATE:20241122
DTEND;VALUE=DATE:20241122
SUMMARY:Ausschreibung — Sanierung Markgrafenhalle Neustadt an der Aisch
DESCRIPTION:Phase: Ausschreibung | Beschreibung: Offizielle Ausschreibung mit Bieterfrist. | Link: https://ausschreibungsradar.com/ausschreibung/23054062/
URL:https://ausschreibungsradar.com/ausschreibung/23054062/
END:VEVENT
END:VCALENDAR
