BEGIN:VCALENDAR
VERSION:2.0
PRODID:-//AusschreibungsRadar//Timeline//DE
CALSCALE:GREGORIAN
METHOD:PUBLISH
X-WR-CALNAME:Projekt Ausführung von Bauleistungen
X-WR-TIMEZONE:Europe/Berlin
BEGIN:VEVENT
UID:dd8205ee29bbadf3@ausschreibungsradar.com
DTSTAMP:20260424T020514Z
DTSTART;VALUE=DATE:20241106
DTEND;VALUE=DATE:20241106
SUMMARY:Ausschreibung — Ausführung von Bauleistungen
DESCRIPTION:Phase: Ausschreibung | Beschreibung: Offizielle Ausschreibung mit Bieterfrist. | Link: https://ausschreibungsradar.com/ausschreibung/22967524/
URL:https://ausschreibungsradar.com/ausschreibung/22967524/
END:VEVENT
BEGIN:VEVENT
UID:063fc13e1f998a8e@ausschreibungsradar.com
DTSTAMP:20260424T020514Z
DTSTART;VALUE=DATE:20241120
DTEND;VALUE=DATE:20241120
SUMMARY:Ausschreibung — Ausführung von Bauleistungen
DESCRIPTION:Phase: Ausschreibung | Beschreibung: Offizielle Ausschreibung mit Bieterfrist. | Link: https://ausschreibungsradar.com/ausschreibung/23038388/
URL:https://ausschreibungsradar.com/ausschreibung/23038388/
END:VEVENT
BEGIN:VEVENT
UID:4f29a88470cb769a@ausschreibungsradar.com
DTSTAMP:20260424T020514Z
DTSTART;VALUE=DATE:20241127
DTEND;VALUE=DATE:20241127
SUMMARY:Ausschreibung — Ausführung von Bauleistungen
DESCRIPTION:Phase: Ausschreibung | Beschreibung: Offizielle Ausschreibung mit Bieterfrist. | Link: https://ausschreibungsradar.com/ausschreibung/23069368/
URL:https://ausschreibungsradar.com/ausschreibung/23069368/
END:VEVENT
BEGIN:VEVENT
UID:91976a2f1da2c68b@ausschreibungsradar.com
DTSTAMP:20260424T020514Z
DTSTART;VALUE=DATE:20241202
DTEND;VALUE=DATE:20241202
SUMMARY:Ausschreibung — Ausführung von Bauleistungen
DESCRIPTION:Phase: Ausschreibung | Beschreibung: Offizielle Ausschreibung mit Bieterfrist. | Link: https://ausschreibungsradar.com/ausschreibung/23090160/
URL:https://ausschreibungsradar.com/ausschreibung/23090160/
END:VEVENT
BEGIN:VEVENT
UID:da37c116b16c4160@ausschreibungsradar.com
DTSTAMP:20260424T020514Z
DTSTART;VALUE=DATE:20241205
DTEND;VALUE=DATE:20241205
SUMMARY:Ausschreibung — Ausführung von Bauleistungen
DESCRIPTION:Phase: Ausschreibung | Beschreibung: Offizielle Ausschreibung mit Bieterfrist. | Link: https://ausschreibungsradar.com/ausschreibung/23110504/
URL:https://ausschreibungsradar.com/ausschreibung/23110504/
END:VEVENT
BEGIN:VEVENT
UID:0a68a832d7c827a9@ausschreibungsradar.com
DTSTAMP:20260424T020514Z
DTSTART;VALUE=DATE:20241206
DTEND;VALUE=DATE:20241206
SUMMARY:Ausschreibung — Ausführung von Bauleistungen
DESCRIPTION:Phase: Ausschreibung | Beschreibung: Offizielle Ausschreibung mit Bieterfrist. | Link: https://ausschreibungsradar.com/ausschreibung/23117326/
URL:https://ausschreibungsradar.com/ausschreibung/23117326/
END:VEVENT
END:VCALENDAR
