BEGIN:VCALENDAR
VERSION:2.0
PRODID:-//AusschreibungsRadar//Timeline//DE
CALSCALE:GREGORIAN
METHOD:PUBLISH
X-WR-CALNAME:Projekt Oberbergkirchen: Neubau Kinderhort Oberbergkirchen; Estricha
X-WR-TIMEZONE:Europe/Berlin
BEGIN:VEVENT
UID:40d9a9c84cb18a83@ausschreibungsradar.com
DTSTAMP:20260425T040350Z
DTSTART;VALUE=DATE:20241120
DTEND;VALUE=DATE:20241120
SUMMARY:Ausschreibung — Oberbergkirchen: Neubau Kinderhort Oberbergkirchen\; Estricha
DESCRIPTION:Phase: Ausschreibung | Beschreibung: Offizielle Ausschreibung mit Bieterfrist. | Link: https://ausschreibungsradar.com/ausschreibung/23043114/
URL:https://ausschreibungsradar.com/ausschreibung/23043114/
END:VEVENT
BEGIN:VEVENT
UID:40334dbd408d34c0@ausschreibungsradar.com
DTSTAMP:20260425T040350Z
DTSTART;VALUE=DATE:20241202
DTEND;VALUE=DATE:20241202
SUMMARY:Zuschlag — Oberbergkirchen: Neubau Kinderhort Oberbergkirchen\; Estricha
DESCRIPTION:Phase: Zuschlag | Beschreibung: Vergabeergebnis — Auftrag wurde erteilt oder Verfahren beendet. | Link: https://ausschreibungsradar.com/ausschreibung/23094256/
URL:https://ausschreibungsradar.com/ausschreibung/23094256/
END:VEVENT
BEGIN:VEVENT
UID:d412fff270609f24@ausschreibungsradar.com
DTSTAMP:20260425T040350Z
DTSTART;VALUE=DATE:20241202
DTEND;VALUE=DATE:20241202
SUMMARY:Zuschlag — Oberbergkirchen: Neubau Kinderhort Oberbergkirchen\; Estricha
DESCRIPTION:Phase: Zuschlag | Beschreibung: Vergabeergebnis — Auftrag wurde erteilt oder Verfahren beendet. | Link: https://ausschreibungsradar.com/ausschreibung/23094248/
URL:https://ausschreibungsradar.com/ausschreibung/23094248/
END:VEVENT
END:VCALENDAR
