BEGIN:VCALENDAR
VERSION:2.0
PRODID:-//AusschreibungsRadar//Timeline//DE
CALSCALE:GREGORIAN
METHOD:PUBLISH
X-WR-CALNAME:Projekt Neubau einer Schlammentwässerung auf der Kläranlage Parsberg
X-WR-TIMEZONE:Europe/Berlin
BEGIN:VEVENT
UID:7fbb975b7b402a7f@ausschreibungsradar.com
DTSTAMP:20260424T191942Z
DTSTART;VALUE=DATE:20241212
DTEND;VALUE=DATE:20241212
SUMMARY:Zuschlag — Neubau einer Schlammentwässerung auf der Kläranlage Parsberg
DESCRIPTION:Phase: Zuschlag | Beschreibung: Vergabeergebnis — Auftrag wurde erteilt oder Verfahren beendet. | Link: https://ausschreibungsradar.com/ausschreibung/23150298/
URL:https://ausschreibungsradar.com/ausschreibung/23150298/
END:VEVENT
BEGIN:VEVENT
UID:c7d309a01a61fd62@ausschreibungsradar.com
DTSTAMP:20260424T191942Z
DTSTART;VALUE=DATE:20241212
DTEND;VALUE=DATE:20241212
SUMMARY:Zuschlag — Neubau einer Schlammentwässerung auf der Kläranlage Parsberg
DESCRIPTION:Phase: Zuschlag | Beschreibung: Vergabeergebnis — Auftrag wurde erteilt oder Verfahren beendet. | Link: https://ausschreibungsradar.com/ausschreibung/23150334/
URL:https://ausschreibungsradar.com/ausschreibung/23150334/
END:VEVENT
END:VCALENDAR
