BEGIN:VCALENDAR
VERSION:2.0
PRODID:-//AusschreibungsRadar//Timeline//DE
CALSCALE:GREGORIAN
METHOD:PUBLISH
X-WR-CALNAME:Projekt Grund- und Oberschule Bannewitz Umbau und Sanierung Bestands
X-WR-TIMEZONE:Europe/Berlin
BEGIN:VEVENT
UID:18d0f7409dd542ea@ausschreibungsradar.com
DTSTAMP:20260425T233419Z
DTSTART;VALUE=DATE:20241219
DTEND;VALUE=DATE:20241219
SUMMARY:Ausschreibung — Grund- und Oberschule Bannewitz Umbau und Sanierung Bestands
DESCRIPTION:Phase: Ausschreibung | Beschreibung: Offizielle Ausschreibung mit Bieterfrist. | Link: https://ausschreibungsradar.com/ausschreibung/23184998/
URL:https://ausschreibungsradar.com/ausschreibung/23184998/
END:VEVENT
BEGIN:VEVENT
UID:7dbe5312b2197909@ausschreibungsradar.com
DTSTAMP:20260425T233419Z
DTSTART;VALUE=DATE:20241219
DTEND;VALUE=DATE:20241219
SUMMARY:Ausschreibung — Grund- und Oberschule Bannewitz Umbau und Sanierung Bestands
DESCRIPTION:Phase: Ausschreibung | Beschreibung: Offizielle Ausschreibung mit Bieterfrist. | Link: https://ausschreibungsradar.com/ausschreibung/23184994/
URL:https://ausschreibungsradar.com/ausschreibung/23184994/
END:VEVENT
END:VCALENDAR
