BEGIN:VCALENDAR
VERSION:2.0
PRODID:-//AusschreibungsRadar//Timeline//DE
CALSCALE:GREGORIAN
METHOD:PUBLISH
X-WR-CALNAME:Projekt SANITÄRARBEITEN- Die Gemeinde Lachen beabsichtigt den Umbau 
X-WR-TIMEZONE:Europe/Berlin
BEGIN:VEVENT
UID:3537a6e5ced7cf54@ausschreibungsradar.com
DTSTAMP:20260425T040409Z
DTSTART;VALUE=DATE:20241219
DTEND;VALUE=DATE:20241219
SUMMARY:Zuschlag — SANITÄRARBEITEN- Die Gemeinde Lachen beabsichtigt den Umbau 
DESCRIPTION:Phase: Zuschlag | Beschreibung: Vergabeergebnis — Auftrag wurde erteilt oder Verfahren beendet. | Link: https://ausschreibungsradar.com/ausschreibung/23193426/
URL:https://ausschreibungsradar.com/ausschreibung/23193426/
END:VEVENT
BEGIN:VEVENT
UID:86c345821a9014fb@ausschreibungsradar.com
DTSTAMP:20260425T040409Z
DTSTART;VALUE=DATE:20241219
DTEND;VALUE=DATE:20241219
SUMMARY:Zuschlag — SANITÄRARBEITEN- Die Gemeinde Lachen beabsichtigt den Umbau 
DESCRIPTION:Phase: Zuschlag | Beschreibung: Vergabeergebnis — Auftrag wurde erteilt oder Verfahren beendet. | Link: https://ausschreibungsradar.com/ausschreibung/23193422/
URL:https://ausschreibungsradar.com/ausschreibung/23193422/
END:VEVENT
END:VCALENDAR
