BEGIN:VCALENDAR
VERSION:2.0
PRODID:-//AusschreibungsRadar//Timeline//DE
CALSCALE:GREGORIAN
METHOD:PUBLISH
X-WR-CALNAME:Projekt Erbgericht Lauterbach-Sicherung der Saalnutzung; Los 02-Gerü
X-WR-TIMEZONE:Europe/Berlin
BEGIN:VEVENT
UID:04a18a13cd05a02e@ausschreibungsradar.com
DTSTAMP:20260424T035006Z
DTSTART;VALUE=DATE:20250114
DTEND;VALUE=DATE:20250114
SUMMARY:Ausschreibung — Erbgericht Lauterbach-Sicherung der Saalnutzung\; Los 02-Gerü
DESCRIPTION:Phase: Ausschreibung | Beschreibung: Offizielle Ausschreibung mit Bieterfrist. | Link: https://ausschreibungsradar.com/ausschreibung/23259406/
URL:https://ausschreibungsradar.com/ausschreibung/23259406/
END:VEVENT
BEGIN:VEVENT
UID:6a7b07550ca79db3@ausschreibungsradar.com
DTSTAMP:20260424T035006Z
DTSTART;VALUE=DATE:20250114
DTEND;VALUE=DATE:20250114
SUMMARY:Ausschreibung — Erbgericht Lauterbach-Sicherung der Saalnutzung\; Los 02-Gerü
DESCRIPTION:Phase: Ausschreibung | Beschreibung: Offizielle Ausschreibung mit Bieterfrist. | Link: https://ausschreibungsradar.com/ausschreibung/23259426/
URL:https://ausschreibungsradar.com/ausschreibung/23259426/
END:VEVENT
BEGIN:VEVENT
UID:d883d90ee03f3652@ausschreibungsradar.com
DTSTAMP:20260424T035006Z
DTSTART;VALUE=DATE:20250114
DTEND;VALUE=DATE:20250114
SUMMARY:Ausschreibung — Erbgericht Lauterbach-Sicherung der Saalnutzung\; Los 02-Gerü
DESCRIPTION:Phase: Ausschreibung | Beschreibung: Offizielle Ausschreibung mit Bieterfrist. | Link: https://ausschreibungsradar.com/ausschreibung/23259354/
URL:https://ausschreibungsradar.com/ausschreibung/23259354/
END:VEVENT
BEGIN:VEVENT
UID:0baa74945e951ae7@ausschreibungsradar.com
DTSTAMP:20260424T035006Z
DTSTART;VALUE=DATE:20250114
DTEND;VALUE=DATE:20250114
SUMMARY:Ausschreibung — Erbgericht Lauterbach-Sicherung der Saalnutzung\; Los 02-Gerü
DESCRIPTION:Phase: Ausschreibung | Beschreibung: Offizielle Ausschreibung mit Bieterfrist. | Link: https://ausschreibungsradar.com/ausschreibung/23259414/
URL:https://ausschreibungsradar.com/ausschreibung/23259414/
END:VEVENT
BEGIN:VEVENT
UID:5cd5056721a3941a@ausschreibungsradar.com
DTSTAMP:20260424T035006Z
DTSTART;VALUE=DATE:20250114
DTEND;VALUE=DATE:20250114
SUMMARY:Ausschreibung — Erbgericht Lauterbach-Sicherung der Saalnutzung\; Los 02-Gerü
DESCRIPTION:Phase: Ausschreibung | Beschreibung: Offizielle Ausschreibung mit Bieterfrist. | Link: https://ausschreibungsradar.com/ausschreibung/23259410/
URL:https://ausschreibungsradar.com/ausschreibung/23259410/
END:VEVENT
BEGIN:VEVENT
UID:1112c2b856d08577@ausschreibungsradar.com
DTSTAMP:20260424T035006Z
DTSTART;VALUE=DATE:20250114
DTEND;VALUE=DATE:20250114
SUMMARY:Ausschreibung — Erbgericht Lauterbach-Sicherung der Saalnutzung\; Los 02-Gerü
DESCRIPTION:Phase: Ausschreibung | Beschreibung: Offizielle Ausschreibung mit Bieterfrist. | Link: https://ausschreibungsradar.com/ausschreibung/23259418/
URL:https://ausschreibungsradar.com/ausschreibung/23259418/
END:VEVENT
END:VCALENDAR
