BEGIN:VCALENDAR
VERSION:2.0
PRODID:-//AusschreibungsRadar//Timeline//DE
CALSCALE:GREGORIAN
METHOD:PUBLISH
X-WR-CALNAME:Projekt Instandsetzung Abwasseranlage
X-WR-TIMEZONE:Europe/Berlin
BEGIN:VEVENT
UID:4dd1f56b97fd00a8@ausschreibungsradar.com
DTSTAMP:20260424T204253Z
DTSTART;VALUE=DATE:20250116
DTEND;VALUE=DATE:20250116
SUMMARY:Zuschlag — Instandsetzung Abwasseranlage
DESCRIPTION:Phase: Zuschlag | Beschreibung: Vergabeergebnis — Auftrag wurde erteilt oder Verfahren beendet. | Link: https://ausschreibungsradar.com/ausschreibung/23271012/
URL:https://ausschreibungsradar.com/ausschreibung/23271012/
END:VEVENT
BEGIN:VEVENT
UID:53aa927dd3b0b05d@ausschreibungsradar.com
DTSTAMP:20260424T204253Z
DTSTART;VALUE=DATE:20250117
DTEND;VALUE=DATE:20250117
SUMMARY:Zuschlag — Instandsetzung Abwasseranlage
DESCRIPTION:Phase: Zuschlag | Beschreibung: Vergabeergebnis — Auftrag wurde erteilt oder Verfahren beendet. | Link: https://ausschreibungsradar.com/ausschreibung/23278776/
URL:https://ausschreibungsradar.com/ausschreibung/23278776/
END:VEVENT
END:VCALENDAR
