BEGIN:VCALENDAR
VERSION:2.0
PRODID:-//AusschreibungsRadar//Timeline//DE
CALSCALE:GREGORIAN
METHOD:PUBLISH
X-WR-CALNAME:Projekt Neubau MZH Bexhövede
X-WR-TIMEZONE:Europe/Berlin
BEGIN:VEVENT
UID:4dcddd01dbc472ea@ausschreibungsradar.com
DTSTAMP:20260425T143430Z
DTSTART;VALUE=DATE:20250117
DTEND;VALUE=DATE:20250117
SUMMARY:Ausschreibung — Neubau MZH Bexhövede
DESCRIPTION:Phase: Ausschreibung | Beschreibung: Offizielle Ausschreibung mit Bieterfrist. | Link: https://ausschreibungsradar.com/ausschreibung/23276344/
URL:https://ausschreibungsradar.com/ausschreibung/23276344/
END:VEVENT
BEGIN:VEVENT
UID:3c0a27a8a1ab75ce@ausschreibungsradar.com
DTSTAMP:20260425T143430Z
DTSTART;VALUE=DATE:20250117
DTEND;VALUE=DATE:20250117
SUMMARY:Ausschreibung — Neubau MZH Bexhövede
DESCRIPTION:Phase: Ausschreibung | Beschreibung: Offizielle Ausschreibung mit Bieterfrist. | Link: https://ausschreibungsradar.com/ausschreibung/23276336/
URL:https://ausschreibungsradar.com/ausschreibung/23276336/
END:VEVENT
END:VCALENDAR
