BEGIN:VCALENDAR
VERSION:2.0
PRODID:-//AusschreibungsRadar//Timeline//DE
CALSCALE:GREGORIAN
METHOD:PUBLISH
X-WR-CALNAME:Projekt Umbau u. Sanierung Dorfgemeinschaftshaus Eggerhuus in Eggerm
X-WR-TIMEZONE:Europe/Berlin
BEGIN:VEVENT
UID:b4a8796c1ffe3090@ausschreibungsradar.com
DTSTAMP:20260424T124208Z
DTSTART;VALUE=DATE:20250117
DTEND;VALUE=DATE:20250117
SUMMARY:Ausschreibung — Umbau u. Sanierung Dorfgemeinschaftshaus Eggerhuus in Eggerm
DESCRIPTION:Phase: Ausschreibung | Beschreibung: Offizielle Ausschreibung mit Bieterfrist. | Link: https://ausschreibungsradar.com/ausschreibung/23276390/
URL:https://ausschreibungsradar.com/ausschreibung/23276390/
END:VEVENT
BEGIN:VEVENT
UID:f10516b39b8c2961@ausschreibungsradar.com
DTSTAMP:20260424T124208Z
DTSTART;VALUE=DATE:20250117
DTEND;VALUE=DATE:20250117
SUMMARY:Ausschreibung — Umbau u. Sanierung Dorfgemeinschaftshaus Eggerhuus in Eggerm
DESCRIPTION:Phase: Ausschreibung | Beschreibung: Offizielle Ausschreibung mit Bieterfrist. | Link: https://ausschreibungsradar.com/ausschreibung/23276366/
URL:https://ausschreibungsradar.com/ausschreibung/23276366/
END:VEVENT
BEGIN:VEVENT
UID:91e05d5e6b49e27d@ausschreibungsradar.com
DTSTAMP:20260424T124208Z
DTSTART;VALUE=DATE:20250117
DTEND;VALUE=DATE:20250117
SUMMARY:Ausschreibung — Umbau u. Sanierung Dorfgemeinschaftshaus Eggerhuus in Eggerm
DESCRIPTION:Phase: Ausschreibung | Beschreibung: Offizielle Ausschreibung mit Bieterfrist. | Link: https://ausschreibungsradar.com/ausschreibung/23276394/
URL:https://ausschreibungsradar.com/ausschreibung/23276394/
END:VEVENT
BEGIN:VEVENT
UID:a16dfc69ffcb17a8@ausschreibungsradar.com
DTSTAMP:20260424T124208Z
DTSTART;VALUE=DATE:20250117
DTEND;VALUE=DATE:20250117
SUMMARY:Ausschreibung — Umbau u. Sanierung Dorfgemeinschaftshaus Eggerhuus in Eggerm
DESCRIPTION:Phase: Ausschreibung | Beschreibung: Offizielle Ausschreibung mit Bieterfrist. | Link: https://ausschreibungsradar.com/ausschreibung/23276406/
URL:https://ausschreibungsradar.com/ausschreibung/23276406/
END:VEVENT
BEGIN:VEVENT
UID:01775b7a3b93ab99@ausschreibungsradar.com
DTSTAMP:20260424T124208Z
DTSTART;VALUE=DATE:20250117
DTEND;VALUE=DATE:20250117
SUMMARY:Ausschreibung — Umbau u. Sanierung Dorfgemeinschaftshaus Eggerhuus in Eggerm
DESCRIPTION:Phase: Ausschreibung | Beschreibung: Offizielle Ausschreibung mit Bieterfrist. | Link: https://ausschreibungsradar.com/ausschreibung/23276398/
URL:https://ausschreibungsradar.com/ausschreibung/23276398/
END:VEVENT
BEGIN:VEVENT
UID:74a86a0f0f2c1803@ausschreibungsradar.com
DTSTAMP:20260424T124208Z
DTSTART;VALUE=DATE:20250117
DTEND;VALUE=DATE:20250117
SUMMARY:Ausschreibung — Umbau u. Sanierung Dorfgemeinschaftshaus Eggerhuus in Eggerm
DESCRIPTION:Phase: Ausschreibung | Beschreibung: Offizielle Ausschreibung mit Bieterfrist. | Link: https://ausschreibungsradar.com/ausschreibung/23276382/
URL:https://ausschreibungsradar.com/ausschreibung/23276382/
END:VEVENT
END:VCALENDAR
