BEGIN:VCALENDAR
VERSION:2.0
PRODID:-//AusschreibungsRadar//Timeline//DE
CALSCALE:GREGORIAN
METHOD:PUBLISH
X-WR-CALNAME:Projekt Neubau Kultur- und Sporthalle - Baureinigung
X-WR-TIMEZONE:Europe/Berlin
BEGIN:VEVENT
UID:82125226838119d7@ausschreibungsradar.com
DTSTAMP:20260425T120401Z
DTSTART;VALUE=DATE:20250108
DTEND;VALUE=DATE:20250108
SUMMARY:Ausschreibung — Neubau Kultur- und Sporthalle - Baureinigung
DESCRIPTION:Phase: Ausschreibung | Beschreibung: Offizielle Ausschreibung mit Bieterfrist. | Link: https://ausschreibungsradar.com/ausschreibung/23233592/
URL:https://ausschreibungsradar.com/ausschreibung/23233592/
END:VEVENT
BEGIN:VEVENT
UID:47a4fa04998e2265@ausschreibungsradar.com
DTSTAMP:20260425T120401Z
DTSTART;VALUE=DATE:20250121
DTEND;VALUE=DATE:20250121
SUMMARY:Ausschreibung — Neubau Kultur- und Sporthalle - Baureinigung
DESCRIPTION:Phase: Ausschreibung | Beschreibung: Offizielle Ausschreibung mit Bieterfrist. | Link: https://ausschreibungsradar.com/ausschreibung/23294426/
URL:https://ausschreibungsradar.com/ausschreibung/23294426/
END:VEVENT
BEGIN:VEVENT
UID:438dbea2c7cbd7c0@ausschreibungsradar.com
DTSTAMP:20260425T120401Z
DTSTART;VALUE=DATE:20250123
DTEND;VALUE=DATE:20250123
SUMMARY:Zuschlag — Neubau Kultur- und Sporthalle - Baureinigung
DESCRIPTION:Phase: Zuschlag | Beschreibung: Vergabeergebnis — Auftrag wurde erteilt oder Verfahren beendet. | Link: https://ausschreibungsradar.com/ausschreibung/23309578/
URL:https://ausschreibungsradar.com/ausschreibung/23309578/
END:VEVENT
END:VCALENDAR
