BEGIN:VCALENDAR
VERSION:2.0
PRODID:-//AusschreibungsRadar//Timeline//DE
CALSCALE:GREGORIAN
METHOD:PUBLISH
X-WR-CALNAME:Projekt Neubau Feuerwehrhaus Thalmassing - Innentüren
X-WR-TIMEZONE:Europe/Berlin
BEGIN:VEVENT
UID:75c8ed2632d4c71e@ausschreibungsradar.com
DTSTAMP:20260425T004640Z
DTSTART;VALUE=DATE:20250127
DTEND;VALUE=DATE:20250127
SUMMARY:Ausschreibung — Neubau Feuerwehrhaus Thalmassing - Innentüren
DESCRIPTION:Phase: Ausschreibung | Beschreibung: Offizielle Ausschreibung mit Bieterfrist. | Link: https://ausschreibungsradar.com/ausschreibung/23328024/
URL:https://ausschreibungsradar.com/ausschreibung/23328024/
END:VEVENT
BEGIN:VEVENT
UID:045644c73a12795c@ausschreibungsradar.com
DTSTAMP:20260425T004640Z
DTSTART;VALUE=DATE:20250127
DTEND;VALUE=DATE:20250127
SUMMARY:Ausschreibung — Neubau Feuerwehrhaus Thalmassing - Innentüren
DESCRIPTION:Phase: Ausschreibung | Beschreibung: Offizielle Ausschreibung mit Bieterfrist. | Link: https://ausschreibungsradar.com/ausschreibung/23328028/
URL:https://ausschreibungsradar.com/ausschreibung/23328028/
END:VEVENT
END:VCALENDAR
