BEGIN:VCALENDAR
VERSION:2.0
PRODID:-//AusschreibungsRadar//Timeline//DE
CALSCALE:GREGORIAN
METHOD:PUBLISH
X-WR-CALNAME:Projekt Grund- und Oberschule Bannewitz Umbau und Sanierung Bestands
X-WR-TIMEZONE:Europe/Berlin
BEGIN:VEVENT
UID:690e6e89dc0eb13e@ausschreibungsradar.com
DTSTAMP:20260425T120357Z
DTSTART;VALUE=DATE:20250120
DTEND;VALUE=DATE:20250120
SUMMARY:Ausschreibung — Grund- und Oberschule Bannewitz Umbau und Sanierung Bestands
DESCRIPTION:Phase: Ausschreibung | Beschreibung: Offizielle Ausschreibung mit Bieterfrist. | Link: https://ausschreibungsradar.com/ausschreibung/23286810/
URL:https://ausschreibungsradar.com/ausschreibung/23286810/
END:VEVENT
BEGIN:VEVENT
UID:97d377dd5ab4cb7f@ausschreibungsradar.com
DTSTAMP:20260425T120357Z
DTSTART;VALUE=DATE:20250129
DTEND;VALUE=DATE:20250129
SUMMARY:Ausschreibung — Grund- und Oberschule Bannewitz Umbau und Sanierung Bestands
DESCRIPTION:Phase: Ausschreibung | Beschreibung: Offizielle Ausschreibung mit Bieterfrist. | Link: https://ausschreibungsradar.com/ausschreibung/23333492/
URL:https://ausschreibungsradar.com/ausschreibung/23333492/
END:VEVENT
END:VCALENDAR
